BEGIN:VCALENDAR
VERSION:2.0
PRODID:-//SZLOMASPORT - ECPv6.5.1.5//NONSGML v1.0//EN
CALSCALE:GREGORIAN
METHOD:PUBLISH
X-ORIGINAL-URL:https://szlomasport.sk
X-WR-CALDESC:Events for SZLOMASPORT
REFRESH-INTERVAL;VALUE=DURATION:PT1H
X-Robots-Tag:noindex
X-PUBLISHED-TTL:PT1H
BEGIN:VTIMEZONE
TZID:Europe/Bratislava
BEGIN:DAYLIGHT
TZOFFSETFROM:+0100
TZOFFSETTO:+0200
TZNAME:CEST
DTSTART:20180325T010000
END:DAYLIGHT
BEGIN:STANDARD
TZOFFSETFROM:+0200
TZOFFSETTO:+0100
TZNAME:CET
DTSTART:20181028T010000
END:STANDARD
END:VTIMEZONE
BEGIN:VEVENT
DTSTART;VALUE=DATE:20180325
DTEND;VALUE=DATE:20180326
DTSTAMP:20260424T094136
CREATED:20180212T092755Z
LAST-MODIFIED:20180323T094145Z
UID:15494-1521936000-1522022399@szlomasport.sk
SUMMARY:Teke Nagymagyaron
DESCRIPTION:A nők négy viadalból álló sprintverseny-sorozata\, 4.\, utolsó forduló \nHelyszín: Nagymagyar (tekepálya) \nKezdés: 10.00
URL:https://szlomasport.sk/esemeny/teke-nagymagyaron/
LOCATION:Nagymagyar\, Nagymagyar\, Szlovákia
END:VEVENT
BEGIN:VEVENT
DTSTART;VALUE=DATE:20180325
DTEND;VALUE=DATE:20180326
DTSTAMP:20260424T094136
CREATED:20180320T100856Z
LAST-MODIFIED:20180320T100857Z
UID:15625-1521936000-1522022399@szlomasport.sk
SUMMARY:Kyokushin karate Dunaszerdahelyen
DESCRIPTION:Nyílt szlovák bajnokság négy ország részvételével \nHelyszín: Dunaszerdahely (városi sportcsarnok) \nKezdés: 10.00 \n 
URL:https://szlomasport.sk/esemeny/kyokushin-karate-dunaszerdahelyen/
LOCATION:Dunaszerdahely\, Dunaszerdahely\, Szlovákia
ATTACH;FMTTYPE=image/jpeg:https://szlomasport.sk/wp-content/uploads/2018/03/kyokushinDS-SLOVAKIAN-OPEN-Custom.jpg
END:VEVENT
END:VCALENDAR