BEGIN:VCALENDAR
VERSION:2.0
PRODID:-//SZLOMASPORT - ECPv6.5.1.5//NONSGML v1.0//EN
CALSCALE:GREGORIAN
METHOD:PUBLISH
X-ORIGINAL-URL:https://szlomasport.sk
X-WR-CALDESC:Events for SZLOMASPORT
REFRESH-INTERVAL;VALUE=DURATION:PT1H
X-Robots-Tag:noindex
X-PUBLISHED-TTL:PT1H
BEGIN:VTIMEZONE
TZID:Europe/Bratislava
BEGIN:DAYLIGHT
TZOFFSETFROM:+0100
TZOFFSETTO:+0200
TZNAME:CEST
DTSTART:20180325T010000
END:DAYLIGHT
BEGIN:STANDARD
TZOFFSETFROM:+0200
TZOFFSETTO:+0100
TZNAME:CET
DTSTART:20181028T010000
END:STANDARD
END:VTIMEZONE
BEGIN:VEVENT
DTSTART;VALUE=DATE:20180324
DTEND;VALUE=DATE:20180325
DTSTAMP:20260424T094136
CREATED:20180223T092846Z
LAST-MODIFIED:20180323T092249Z
UID:15536-1521849600-1521935999@szlomasport.sk
SUMMARY:Labdarúgás Galántán
DESCRIPTION:0. Teremtorna a Galántai Interliga PT kupájáért \nHelyszín: Galánta (városi sportcsarnok) \nKezdés: 10.00 \nLegalább hat csapat indul
URL:https://szlomasport.sk/esemeny/labdarugas-galantan/
LOCATION:Galánta\, Galánta\, Szlovákia
END:VEVENT
BEGIN:VEVENT
DTSTART;VALUE=DATE:20180324
DTEND;VALUE=DATE:20180325
DTSTAMP:20260424T094136
CREATED:20180319T091734Z
LAST-MODIFIED:20180320T100318Z
UID:15618-1521849600-1521935999@szlomasport.sk
SUMMARY:Gyaloglás Fülekről
DESCRIPTION:Vezetett gyalogtúra a  Novohrad-Nógrád Geopark J.SZ.T és a füleki Nógrádi Turisztikai és Információs Központ szervezésében \nÚtvonal:  Fülek - Karancs - Pécs-kő szikla (Salgótarján) - Fülek. \nA  túra hossza: 10 km \nTalálkozó: 8.00 (a füleki városi művelődési központ előtt) \nTúravezető: Prakfalvi Péter geológus \nJelentkezés és további információk: Nógrádi Turisztikai Információs Központ irodája (Fülek\, Várfelső utca 14.\, tel.: +421 (0)47-43-82-016\, e-mail: ntic@filakovo.sk) vagy a Geopark Novohrad-Nógrád J.SZ.T. irodája (Fülek\, Várfelső utca 14.\, mobil: +421 (0)917 646 551\, e-mail: geopark.filakovo@gmail.com. \nA gyalogtúrára előzetes bejelentkezés szükséges legkésőbb 2018. március 21-ig! \n 
URL:https://szlomasport.sk/esemeny/gyaloglas-fulekrol/
LOCATION:Fülek\, Fülek\, Szlovákia
ATTACH;FMTTYPE=image/jpeg:https://szlomasport.sk/wp-content/uploads/2018/03/fulektura_marcius_2018-Custom.jpg
END:VEVENT
BEGIN:VEVENT
DTSTART;VALUE=DATE:20180324
DTEND;VALUE=DATE:20180325
DTSTAMP:20260424T094136
CREATED:20180323T093732Z
LAST-MODIFIED:20180323T093732Z
UID:15645-1521849600-1521935999@szlomasport.sk
SUMMARY:Grappling Gútán
DESCRIPTION:A GA Grappling Liga 2017/2018-as évadjának 6. fordulója\, selejtező a magyar bajnokságra \nHelyszín: Gúta (városi sportcsarnok) \nKezdés: 10.00 \nVersenyszámok: Gi Grappling\, NoGi Grappling\, Combat Grappling\, kesztűs küzdelem\, NoGi Open \nA belépés ingyenes
URL:https://szlomasport.sk/esemeny/grappling-gutan/
LOCATION:Gúta\, Gúta\, Szlovákia
ATTACH;FMTTYPE=image/png:https://szlomasport.sk/wp-content/uploads/2018/03/grapplingGuta-Custom.png
END:VEVENT
END:VCALENDAR