BEGIN:VCALENDAR
VERSION:2.0
PRODID:-//SZLOMASPORT - ECPv6.5.1.5//NONSGML v1.0//EN
CALSCALE:GREGORIAN
METHOD:PUBLISH
X-WR-CALNAME:SZLOMASPORT
X-ORIGINAL-URL:https://szlomasport.sk
X-WR-CALDESC:Events for SZLOMASPORT
REFRESH-INTERVAL;VALUE=DURATION:PT1H
X-Robots-Tag:noindex
X-PUBLISHED-TTL:PT1H
BEGIN:VTIMEZONE
TZID:Europe/Bratislava
BEGIN:DAYLIGHT
TZOFFSETFROM:+0100
TZOFFSETTO:+0200
TZNAME:CEST
DTSTART:20180325T010000
END:DAYLIGHT
BEGIN:STANDARD
TZOFFSETFROM:+0200
TZOFFSETTO:+0100
TZNAME:CET
DTSTART:20181028T010000
END:STANDARD
END:VTIMEZONE
BEGIN:VEVENT
DTSTART;VALUE=DATE:20180222
DTEND;VALUE=DATE:20180223
DTSTAMP:20260424T110513
CREATED:20171216T161114Z
LAST-MODIFIED:20180207T181756Z
UID:15280-1519257600-1519343999@szlomasport.sk
SUMMARY:Asztalitenisz Hodosban
DESCRIPTION:Férfi Szuperliga 2017/2018\, elődöntő\, visszavágó \nPárosítás: Vydrany--Szlovákia U21 \nHelyszín: Hodos (kultúrház) \nKezdés: 18.00 \n 
URL:https://szlomasport.sk/esemeny/asztalitenisz-hodosban-5/
LOCATION:Hodos\, Hodos\, Szlovákia
END:VEVENT
END:VCALENDAR