BEGIN:VCALENDAR
VERSION:2.0
PRODID:-//SZLOMASPORT - ECPv6.5.1.5//NONSGML v1.0//EN
CALSCALE:GREGORIAN
METHOD:PUBLISH
X-WR-CALNAME:SZLOMASPORT
X-ORIGINAL-URL:https://szlomasport.sk
X-WR-CALDESC:Events for SZLOMASPORT
REFRESH-INTERVAL;VALUE=DURATION:PT1H
X-Robots-Tag:noindex
X-PUBLISHED-TTL:PT1H
BEGIN:VTIMEZONE
TZID:Europe/Bratislava
BEGIN:DAYLIGHT
TZOFFSETFROM:+0100
TZOFFSETTO:+0200
TZNAME:CEST
DTSTART:20180325T010000
END:DAYLIGHT
BEGIN:STANDARD
TZOFFSETFROM:+0200
TZOFFSETTO:+0100
TZNAME:CET
DTSTART:20181028T010000
END:STANDARD
END:VTIMEZONE
BEGIN:VEVENT
DTSTART;VALUE=DATE:20180113
DTEND;VALUE=DATE:20180114
DTSTAMP:20260424T122259
CREATED:20171113T095021Z
LAST-MODIFIED:20180112T084925Z
UID:15138-1515801600-1515887999@szlomasport.sk
SUMMARY:Teremfoci Vágsellyén
DESCRIPTION:18. TIBI-kupa\, a Vágsellyei járás teremfoci-bajnoksága \nHelyszín: Vágsellye (városi sportcsarnok) \nNevezések: Horná Kráľová (V. liga)\, Betonaris Šaľa\,  Veča\, Selice\, Tešedíkovo\, Trnovec n/V.\, Dlhá n/V.\, Diakovce (VII. liga)\,  Duslo Šaľa (id. ifik\, III. liga)\, Močenok (VI. liga)\, Hájske (VII. liga\, A csoport)\, Horné Saliby\, Váhovce\, Pata (V. liga) -- az utóbbi három a Galántai járásból jelentkezett. \nKezdés: 8.00
URL:https://szlomasport.sk/esemeny/vagsellyen-futballoznak/
LOCATION:Vágsellye\, Vágsellye\, Szlovákia
END:VEVENT
BEGIN:VEVENT
DTSTART;VALUE=DATE:20180113
DTEND;VALUE=DATE:20180114
DTSTAMP:20260424T122259
CREATED:20180111T090135Z
LAST-MODIFIED:20180111T090224Z
UID:15342-1515801600-1515887999@szlomasport.sk
SUMMARY:Teremfoci Nyárasdon
DESCRIPTION:XIV. Fiser-kupa teremtorna a felsővámosi Juhos István emlékére \nHelyszín: Nyárasd (sportcsarnok) \nKezdés: 8.00 \nInduló csapatok: Fiser 9\, Felsővámos\, Fénybenjárók\, Bogyoszló\, FTC\, Vándor\, Eperjes\, Ande Latte \nCímvédő: FC Udvarnok \n 
URL:https://szlomasport.sk/esemeny/labdarugas-nyarasdon/
LOCATION:Nyárasd\, Nyárasd\, Szlovákia
END:VEVENT
END:VCALENDAR