BEGIN:VCALENDAR
VERSION:2.0
PRODID:-//SZLOMASPORT - ECPv6.5.1.5//NONSGML v1.0//EN
CALSCALE:GREGORIAN
METHOD:PUBLISH
X-ORIGINAL-URL:https://szlomasport.sk
X-WR-CALDESC:Events for SZLOMASPORT
REFRESH-INTERVAL;VALUE=DURATION:PT1H
X-Robots-Tag:noindex
X-PUBLISHED-TTL:PT1H
BEGIN:VTIMEZONE
TZID:Europe/Bratislava
BEGIN:DAYLIGHT
TZOFFSETFROM:+0100
TZOFFSETTO:+0200
TZNAME:CEST
DTSTART:20170326T010000
END:DAYLIGHT
BEGIN:STANDARD
TZOFFSETFROM:+0200
TZOFFSETTO:+0100
TZNAME:CET
DTSTART:20171029T010000
END:STANDARD
END:VTIMEZONE
BEGIN:VEVENT
DTSTART;VALUE=DATE:20171225
DTEND;VALUE=DATE:20171226
DTSTAMP:20260424T151553
CREATED:20171222T101449Z
LAST-MODIFIED:20171222T101449Z
UID:15301-1514160000-1514246399@szlomasport.sk
SUMMARY:Sakk Ipolyfödémesen
DESCRIPTION:37. Karácsonyi verseny \nHelyszín: Ipolyfödémes (községháza nagyterme) \nKezdés: 14.00 \nTudnivaló: 7 fordulós torna\, 2x15 perces partik \nA  versenyen elsősorban ipolyfödémesiek és felsőtúriak indulhatnak\, további rajt egyeztetés esetén a +36 30 548 93 13-as telefonszámon
URL:https://szlomasport.sk/esemeny/sakk-ipolyfodemesen/
LOCATION:Ipolyfödémes\, Ipolyfödémes\, Szlovákia
END:VEVENT
END:VCALENDAR