BEGIN:VCALENDAR
VERSION:2.0
PRODID:-//SZLOMASPORT - ECPv6.5.1.5//NONSGML v1.0//EN
CALSCALE:GREGORIAN
METHOD:PUBLISH
X-ORIGINAL-URL:https://szlomasport.sk
X-WR-CALDESC:Events for SZLOMASPORT
REFRESH-INTERVAL;VALUE=DURATION:PT1H
X-Robots-Tag:noindex
X-PUBLISHED-TTL:PT1H
BEGIN:VTIMEZONE
TZID:Europe/Bratislava
BEGIN:DAYLIGHT
TZOFFSETFROM:+0100
TZOFFSETTO:+0200
TZNAME:CEST
DTSTART:20170326T010000
END:DAYLIGHT
BEGIN:STANDARD
TZOFFSETFROM:+0200
TZOFFSETTO:+0100
TZNAME:CET
DTSTART:20171029T010000
END:STANDARD
END:VTIMEZONE
BEGIN:VEVENT
DTSTART;VALUE=DATE:20171210
DTEND;VALUE=DATE:20171211
DTSTAMP:20260424T151554
CREATED:20171130T101934Z
LAST-MODIFIED:20171209T174731Z
UID:15217-1512864000-1512950399@szlomasport.sk
SUMMARY:Teremfoci Füleken
DESCRIPTION:I. FTC Winter Cup \nHelyszín: Fülek (Mocsáry-alapiskola tornaterme) \nKorosztály: U11 \nA  mezőny: Jupie FŠ Mareka Hamšíka\, Salgótarjáni BTC\, Pásztói SK 1913\, Novohrad Lučenec\, FK Jesenské\, OZ FM Veľký Krtíš\, FTC Fiľakovo A és B \nA műsor\, 1. forduló – 8.35: FTC B–FTC A\n9.00: ŠK Novohrad–Jesenské\n9.17: SBTC Salgótarján–FM Veľký Krtíš\n9.34: SK Pásztó–Jupie Banská Bystrica\n2. forduló – 9.51: FTC A–ŠK Novohrad\n10.08: FM Veľký Krtíš–FTC B\n10.25: Jesenské–SK Pásztó\n10.42: Jupie Banská Bystrica–SBTC Salgótarján\n11.00: Ünnepélyes megnyitó\n3. forduló -- 11.15: FM Veľký Krtíš–FTC A\n11.32: SK Pásztó–ŠK Novohrad\n11.49: FTC B–Jupie Banská Bystrica\n12.06: SBTC Salgótarján–Jesenské\n4. forduló -- 12.23: FTC A–SK Pásztó\n12.40: Jupie Banská Bystrica–FM Veľký Krtíš\n12.57: ŠK Novohrad--SBTC Salgótarján\n13.14: Jesenské–FTC B\n5. forduló -- 13.31: Jupie Banská Bystrica–FTC A\n13.48: SBTC Salgótarján–SK Pásztó\n14.05: FM Veľký Krtíš–Jesenské\n14.22: FTC B–ŠK Novohrad\n6. forduló -- 14.39: FTC A–SBTC Salgótarján\n14.56: Jesenské–Jupie Banská Bystrica\n15.13: SK Pásztó–FTC B\n15.30: ŠK Novohrad–FM Veľký Krtíš\n7. forduló -- 15.47: Jupie Banská Bystrica–ŠK Novohrad\n16.04: FTC B–SBTC Salgótarján\n16.21: FM Veľký Krtíš–SK Pásztó\n16.38: Jesenské– FTC A\n17.00: Eredményhirdetés \nHonlapunk a torna médiapartnere
URL:https://szlomasport.sk/esemeny/teremfoci-fuleken/
LOCATION:Fülek\, Fülek\, Szlovákia
ATTACH;FMTTYPE=image/jpeg:https://szlomasport.sk/wp-content/uploads/2017/11/fulekU11.jpg
END:VEVENT
END:VCALENDAR