BEGIN:VCALENDAR
VERSION:2.0
PRODID:-//SZLOMASPORT - ECPv6.5.1.5//NONSGML v1.0//EN
CALSCALE:GREGORIAN
METHOD:PUBLISH
X-WR-CALNAME:SZLOMASPORT
X-ORIGINAL-URL:https://szlomasport.sk
X-WR-CALDESC:Events for SZLOMASPORT
REFRESH-INTERVAL;VALUE=DURATION:PT1H
X-Robots-Tag:noindex
X-PUBLISHED-TTL:PT1H
BEGIN:VTIMEZONE
TZID:Europe/Bratislava
BEGIN:DAYLIGHT
TZOFFSETFROM:+0100
TZOFFSETTO:+0200
TZNAME:CEST
DTSTART:20170326T010000
END:DAYLIGHT
BEGIN:STANDARD
TZOFFSETFROM:+0200
TZOFFSETTO:+0100
TZNAME:CET
DTSTART:20171029T010000
END:STANDARD
END:VTIMEZONE
BEGIN:VEVENT
DTSTART;VALUE=DATE:20171209
DTEND;VALUE=DATE:20171210
DTSTAMP:20260424T133826
CREATED:20170416T095409Z
LAST-MODIFIED:20171207T104129Z
UID:14341-1512777600-1512863999@szlomasport.sk
SUMMARY:Fogathajtás Dunatőkésen
DESCRIPTION:5. Mikulás-napi fedeles és egyben idényzáró verseny \nHelyszín: Dunatőkés (Czajlik-rancs\, fedett lovarda) \nKezdés: 10.00 \nVersenyszámok: egyes\, kettes és négyes fogatok\, valamint pónifogatok (kombinált versenypálya)
URL:https://szlomasport.sk/esemeny/fogathajtas-dunatokesen/
LOCATION:Dunatőkés\, Dunatőkés\, Szlovákia
END:VEVENT
BEGIN:VEVENT
DTSTART;VALUE=DATE:20171209
DTEND;VALUE=DATE:20171210
DTSTAMP:20260424T133826
CREATED:20171110T095844Z
LAST-MODIFIED:20171207T102925Z
UID:15131-1512777600-1512863999@szlomasport.sk
SUMMARY:Teremfoci Füleken
DESCRIPTION:IV. nemzetközi ifjúsági torna az FTC klubelnöki kupájáért \nHelyszín: Fülek (az FTC futballstadion tornaterme) \nKezdés: 9.00 \nKorosztály: U17 \nA mezőny: Mályi SE (Magyarország)\, FK Šamorín\, Salgótarjáni BTC\, SDM Domino Bratislava\, FTC Fiľakovo A\, FTC Fiľakovo B \nA műsor – 9.00: FTC A–Mályi SE (A csoport)\n9.30: SBTC–FTC B (B csoport)\n10.00: FK Šamorín–Mályi SE (A)\n10.30: SDM Domino Bratislava–SBTC (B)\n11.00: FTC A–FK Šamorín (A)\n11.30: FTC B–SDM Domino Bratislava (B) \nUtána helyosztók az 5. és a 3. helyért\, majd döntő \nHonlapunk a torna médiapartnere
URL:https://szlomasport.sk/esemeny/teremfoci-fuleken-2/
LOCATION:Fülek\, Fülek\, Szlovákia
ATTACH;FMTTYPE=image/jpeg:https://szlomasport.sk/wp-content/uploads/2017/11/teremfulekuj.jpg
END:VEVENT
END:VCALENDAR