BEGIN:VCALENDAR
VERSION:2.0
PRODID:-//SZLOMASPORT - ECPv6.5.1.5//NONSGML v1.0//EN
CALSCALE:GREGORIAN
METHOD:PUBLISH
X-WR-CALNAME:SZLOMASPORT
X-ORIGINAL-URL:https://szlomasport.sk
X-WR-CALDESC:Events for SZLOMASPORT
REFRESH-INTERVAL;VALUE=DURATION:PT1H
X-Robots-Tag:noindex
X-PUBLISHED-TTL:PT1H
BEGIN:VTIMEZONE
TZID:Europe/Bratislava
BEGIN:DAYLIGHT
TZOFFSETFROM:+0100
TZOFFSETTO:+0200
TZNAME:CEST
DTSTART:20170326T010000
END:DAYLIGHT
BEGIN:STANDARD
TZOFFSETFROM:+0200
TZOFFSETTO:+0100
TZNAME:CET
DTSTART:20171029T010000
END:STANDARD
END:VTIMEZONE
BEGIN:VEVENT
DTSTART;VALUE=DATE:20171202
DTEND;VALUE=DATE:20171203
DTSTAMP:20260424T133841
CREATED:20171129T091858Z
LAST-MODIFIED:20171130T102453Z
UID:15208-1512172800-1512259199@szlomasport.sk
SUMMARY:Vezetett gyalogtúra Fülekről
DESCRIPTION:A Geopark Novohrad-Nógrád J.Sz.T. és a füleki Nógrádi Turisztikai Információs Központ rendezvénye \nTalálka: Fülek (8.00-kor a városi művelődési központ előtt) \nÚtvonal: Fülek–Nagydaróc--Nagy Bucsony–Kis Bucsony–„Füleki-sziklák“–Kakas-hegy--Fülek \nTáv: 18 km \nTúravezető: Farkas István \nJelentkezés és további információk: Nógrádi Turisztikai Információs Központ irodája\,\nFülek\, Várfelső utca / Podhradská 14.\, tel.: +421 (0)47 4382 016\, mobil: +421 918 994 481 e-mail: ntic@hradfilakovo.sk vagy a Geopark Novohrad-Nógrád J.Sz.T. irodája\, irodavezető: Puntigán József\, Fülek\nVárfelső utca / Podhradská 14\, mobil: +421 (0)917 646 551\, e-mail: geopark.filakovo@gmail.com.
URL:https://szlomasport.sk/esemeny/vezetett-gyalogtura-fulekrol-3/
LOCATION:Fülek\, Fülek\, Szlovákia
ATTACH;FMTTYPE=image/jpeg:https://szlomasport.sk/wp-content/uploads/2017/11/fulektura_december_huk-1.jpg
END:VEVENT
END:VCALENDAR