BEGIN:VCALENDAR
VERSION:2.0
PRODID:-//SZLOMASPORT - ECPv6.5.1.5//NONSGML v1.0//EN
CALSCALE:GREGORIAN
METHOD:PUBLISH
X-WR-CALNAME:SZLOMASPORT
X-ORIGINAL-URL:https://szlomasport.sk
X-WR-CALDESC:Events for SZLOMASPORT
REFRESH-INTERVAL;VALUE=DURATION:PT1H
X-Robots-Tag:noindex
X-PUBLISHED-TTL:PT1H
BEGIN:VTIMEZONE
TZID:Europe/Bratislava
BEGIN:DAYLIGHT
TZOFFSETFROM:+0100
TZOFFSETTO:+0200
TZNAME:CEST
DTSTART:20170326T010000
END:DAYLIGHT
BEGIN:STANDARD
TZOFFSETFROM:+0200
TZOFFSETTO:+0100
TZNAME:CET
DTSTART:20171029T010000
END:STANDARD
END:VTIMEZONE
BEGIN:VEVENT
DTSTART;VALUE=DATE:20171110
DTEND;VALUE=DATE:20171113
DTSTAMP:20260424T165036
CREATED:20170416T094758Z
LAST-MODIFIED:20171109T103616Z
UID:14337-1510272000-1510531199@szlomasport.sk
SUMMARY:Fedeles díjugratás Dunatőkésen
DESCRIPTION:Hall Showjumping Tour néven rendezett versenyek második állomása \nHelyszín: Dunatőkés (Czajlik-rancs\, fedett lovarda) \nKezdés: 9.00 \nVersenyszámok: Amateur Cup (80 cm)\, Equistyle Cup (100 cm)\, Agroreal Cup (110 cm)\, Sikkaton Cup (125 cm) \n 
URL:https://szlomasport.sk/esemeny/3-teli-dijugrato-sorozat-2/
LOCATION:Dunatőkés\, Dunatőkés\, Szlovákia
ATTACH;FMTTYPE=image/jpeg:https://szlomasport.sk/wp-content/uploads/2017/04/dunatokesfedeles2017-18.jpg
END:VEVENT
END:VCALENDAR