BEGIN:VCALENDAR
VERSION:2.0
PRODID:-//SZLOMASPORT - ECPv6.5.1.5//NONSGML v1.0//EN
CALSCALE:GREGORIAN
METHOD:PUBLISH
X-WR-CALNAME:SZLOMASPORT
X-ORIGINAL-URL:https://szlomasport.sk
X-WR-CALDESC:Events for SZLOMASPORT
REFRESH-INTERVAL;VALUE=DURATION:PT1H
X-Robots-Tag:noindex
X-PUBLISHED-TTL:PT1H
BEGIN:VTIMEZONE
TZID:Europe/Bratislava
BEGIN:DAYLIGHT
TZOFFSETFROM:+0100
TZOFFSETTO:+0200
TZNAME:CEST
DTSTART:20170326T010000
END:DAYLIGHT
BEGIN:STANDARD
TZOFFSETFROM:+0200
TZOFFSETTO:+0100
TZNAME:CET
DTSTART:20171029T010000
END:STANDARD
END:VTIMEZONE
BEGIN:VEVENT
DTSTART;VALUE=DATE:20171027
DTEND;VALUE=DATE:20171030
DTSTAMP:20260424T194630
CREATED:20170416T094446Z
LAST-MODIFIED:20171025T210436Z
UID:14335-1509062400-1509321599@szlomasport.sk
SUMMARY:Fedeles díjugratás Dunatőkésen
DESCRIPTION:Hall Showjumping Tour néven rendezett  versenyek első állomása \nHelyszín: Dunatőkés (Czajlik-rancs\, fedett lovarda) \nVersenyszámok: Amateur Cup (80 cm)\, Equistyle Cup (100 cm)\,  Agroreal Cup (110 cm)\, Sikkaton Cup (120 cm) \nPénteken bemelegítő a versenypályán\, szombaton és vasárnap mind a versenyszám\, rajt: 9.00
URL:https://szlomasport.sk/esemeny/3-teli-dijugrato-sorozat/
LOCATION:Dunatőkés\, Dunatőkés\, Szlovákia
ATTACH;FMTTYPE=image/jpeg:https://szlomasport.sk/wp-content/uploads/2017/04/dunatokesfedeles2017-18.jpg
END:VEVENT
BEGIN:VEVENT
DTSTART;VALUE=DATE:20171028
DTEND;VALUE=DATE:20171029
DTSTAMP:20260424T194630
CREATED:20170512T081828Z
LAST-MODIFIED:20171025T211403Z
UID:14452-1509148800-1509235199@szlomasport.sk
SUMMARY:MMA-ketrecharc Komáromban
DESCRIPTION:Cage Fighting Komárno 3 gálaműsor sok izgalommal és 14 mérkőzéssel \nHelyszín: Komárom (Városi sportcsarnok) \nKezdés: 20.00 \nKilenc amatőr párharc\, öt profi\, főmérkőzés: Tomáš Malík (szlovák)--Szombat Patrik (magyar) \nDíszvendégek: Növényi Norbert\, Végh Attila\, Boráros Gábor és Ilja Skodrics
URL:https://szlomasport.sk/esemeny/mma-harc-komaromban/
LOCATION:Komárom\, Komárom\, Szlovákia
END:VEVENT
END:VCALENDAR