BEGIN:VCALENDAR
VERSION:2.0
PRODID:-//SZLOMASPORT - ECPv6.5.1.5//NONSGML v1.0//EN
CALSCALE:GREGORIAN
METHOD:PUBLISH
X-WR-CALNAME:SZLOMASPORT
X-ORIGINAL-URL:https://szlomasport.sk
X-WR-CALDESC:Events for SZLOMASPORT
REFRESH-INTERVAL;VALUE=DURATION:PT1H
X-Robots-Tag:noindex
X-PUBLISHED-TTL:PT1H
BEGIN:VTIMEZONE
TZID:Europe/Bratislava
BEGIN:DAYLIGHT
TZOFFSETFROM:+0100
TZOFFSETTO:+0200
TZNAME:CEST
DTSTART:20170326T010000
END:DAYLIGHT
BEGIN:STANDARD
TZOFFSETFROM:+0200
TZOFFSETTO:+0100
TZNAME:CET
DTSTART:20171029T010000
END:STANDARD
END:VTIMEZONE
BEGIN:VEVENT
DTSTART;VALUE=DATE:20171021
DTEND;VALUE=DATE:20171022
DTSTAMP:20260424T212258
CREATED:20171018T203633Z
LAST-MODIFIED:20171018T203633Z
UID:15017-1508544000-1508630399@szlomasport.sk
SUMMARY:Futás Lekéren
DESCRIPTION:XXII. Zelenyák János Emlékverseny a Lévai járásban fekvő településen \nHelyszín: Lekér \nVersenyközpont: kultúrház \nVersenytávok: 4  és 11 km (felnőttek)\, 100 m (óvodások)\, 300 m\, 600 m\, 900 m (alapiskolások)\, 1300 m\, 1900 m (ifjúságiak) \nRajt -- gyerekek: 10.15\, főszámok: 11.00 \n 
URL:https://szlomasport.sk/esemeny/futas-lekeren/
LOCATION:Lekér\, Lekér\, Szlovákia
ATTACH;FMTTYPE=image/jpeg:https://szlomasport.sk/wp-content/uploads/2017/10/Zelenyákova-13-as-HU-Custom.jpg
END:VEVENT
END:VCALENDAR