BEGIN:VCALENDAR
VERSION:2.0
PRODID:-//SZLOMASPORT - ECPv6.5.1.5//NONSGML v1.0//EN
CALSCALE:GREGORIAN
METHOD:PUBLISH
X-ORIGINAL-URL:https://szlomasport.sk
X-WR-CALDESC:Events for SZLOMASPORT
REFRESH-INTERVAL;VALUE=DURATION:PT1H
X-Robots-Tag:noindex
X-PUBLISHED-TTL:PT1H
BEGIN:VTIMEZONE
TZID:Europe/Bratislava
BEGIN:DAYLIGHT
TZOFFSETFROM:+0100
TZOFFSETTO:+0200
TZNAME:CEST
DTSTART:20170326T010000
END:DAYLIGHT
BEGIN:STANDARD
TZOFFSETFROM:+0200
TZOFFSETTO:+0100
TZNAME:CET
DTSTART:20171029T010000
END:STANDARD
END:VTIMEZONE
BEGIN:VEVENT
DTSTART;VALUE=DATE:20171014
DTEND;VALUE=DATE:20171015
DTSTAMP:20260424T181959
CREATED:20171010T080346Z
LAST-MODIFIED:20171013T091310Z
UID:14998-1507939200-1508025599@szlomasport.sk
SUMMARY:Cselgáncs Gútán
DESCRIPTION:Gúta Nagydíja nemzetközi diákverseny \nHelyszín: Gúta (városi sportcsarnok) \nKezdés: 11.00 \nVersenykategóriák: U9\, U11\, U13\, U15 (fiúk és lányok)
URL:https://szlomasport.sk/esemeny/cselgancs-gutan/
LOCATION:Gúta\, Gúta\, Szlovákia
ATTACH;FMTTYPE=image/jpeg:https://szlomasport.sk/wp-content/uploads/2017/10/gutajudogp2017_n-Custom.jpg
END:VEVENT
BEGIN:VEVENT
DTSTART;VALUE=DATE:20171014
DTEND;VALUE=DATE:20171015
DTSTAMP:20260424T181959
CREATED:20171010T081608Z
LAST-MODIFIED:20171010T081608Z
UID:15000-1507939200-1508025599@szlomasport.sk
SUMMARY:Gyalogtúra Fülek
DESCRIPTION:A  Turizmus Világnapja alkalmából 12 km-es gyaloglás  \nÚtvonal: Fülek--Egyházasbást--Medves magosa--Somoskői Tanösvény--Sátorosbánya (NTR parkolója)--Fülek \nTalálkozó: Fülek (Szabadság tér\, városi művelődési központ) \nIndulás: 8.00
URL:https://szlomasport.sk/esemeny/gyalogtura-fulek/
LOCATION:Fülek\, Fülek\, Szlovákia
ATTACH;FMTTYPE=image/jpeg:https://szlomasport.sk/wp-content/uploads/2017/10/geopark_oktober_huk-Custom.jpg
END:VEVENT
BEGIN:VEVENT
DTSTART;TZID=Europe/Bratislava:20171014T080000
DTEND;TZID=Europe/Bratislava:20171014T170000
DTSTAMP:20260424T181959
CREATED:20170929T084350Z
LAST-MODIFIED:20170929T084350Z
UID:14947-1507968000-1508000400@szlomasport.sk
SUMMARY:Asztalitenisz Dunaszerdahelyen
DESCRIPTION:A női extraliga nyitófordulójának mérkőzése: SST Euromilk Dunajská Streda--Trnávka \nHelyszín: Dunaszerdahely (a Jilemnicky utcai Alapiskola tornaterme) \nKezdés: 10.00
URL:https://szlomasport.sk/esemeny/asztalitenisz-dunaszerdahelyen/
LOCATION:Dunaszerdahely\, Dunaszerdahely\, Szlovákia
END:VEVENT
END:VCALENDAR