BEGIN:VCALENDAR
VERSION:2.0
PRODID:-//SZLOMASPORT - ECPv6.5.1.5//NONSGML v1.0//EN
CALSCALE:GREGORIAN
METHOD:PUBLISH
X-ORIGINAL-URL:https://szlomasport.sk
X-WR-CALDESC:Events for SZLOMASPORT
REFRESH-INTERVAL;VALUE=DURATION:PT1H
X-Robots-Tag:noindex
X-PUBLISHED-TTL:PT1H
BEGIN:VTIMEZONE
TZID:Europe/Bratislava
BEGIN:DAYLIGHT
TZOFFSETFROM:+0100
TZOFFSETTO:+0200
TZNAME:CEST
DTSTART:20170326T010000
END:DAYLIGHT
BEGIN:STANDARD
TZOFFSETFROM:+0200
TZOFFSETTO:+0100
TZNAME:CET
DTSTART:20171029T010000
END:STANDARD
END:VTIMEZONE
BEGIN:VEVENT
DTSTART;VALUE=DATE:20171007
DTEND;VALUE=DATE:20171008
DTSTAMP:20260424T194720
CREATED:20171005T082929Z
LAST-MODIFIED:20171005T082929Z
UID:14972-1507334400-1507420799@szlomasport.sk
SUMMARY:Teremkerékpár Komáromban
DESCRIPTION:Nyílt szlovák országos bajnokság a gútaiak részvételével \nHelyszín: Komárom (városi sportcsarnok) \nKezdés: 10.00 (iskoláskorúak)\, 13.00 (juniorok és felnőttek)\, 16.00 (a gútai vb-bronzérmes négyes bemutatója) \nKözben 12.15: autogramosztás \n 
URL:https://szlomasport.sk/esemeny/teremkerekpar-komaromban/
LOCATION:Komárom\, Komárom\, Szlovákia
ATTACH;FMTTYPE=image/png:https://szlomasport.sk/wp-content/uploads/2017/10/bico-ob.png
END:VEVENT
END:VCALENDAR