BEGIN:VCALENDAR
VERSION:2.0
PRODID:-//SZLOMASPORT - ECPv6.5.1.5//NONSGML v1.0//EN
CALSCALE:GREGORIAN
METHOD:PUBLISH
X-ORIGINAL-URL:https://szlomasport.sk
X-WR-CALDESC:Events for SZLOMASPORT
REFRESH-INTERVAL;VALUE=DURATION:PT1H
X-Robots-Tag:noindex
X-PUBLISHED-TTL:PT1H
BEGIN:VTIMEZONE
TZID:Europe/Bratislava
BEGIN:DAYLIGHT
TZOFFSETFROM:+0100
TZOFFSETTO:+0200
TZNAME:CEST
DTSTART:20170326T010000
END:DAYLIGHT
BEGIN:STANDARD
TZOFFSETFROM:+0200
TZOFFSETTO:+0100
TZNAME:CET
DTSTART:20171029T010000
END:STANDARD
END:VTIMEZONE
BEGIN:VEVENT
DTSTART;VALUE=DATE:20170930
DTEND;VALUE=DATE:20171002
DTSTAMP:20260424T181959
CREATED:20170502T083407Z
LAST-MODIFIED:20170929T084738Z
UID:14420-1506729600-1506902399@szlomasport.sk
SUMMARY:Westernlovas-bajnokság Galántán
DESCRIPTION:Csodálatos környezetben csatáznak a sportág képviselői \nHelyszín: Ezüst-tó Ranch (Galánta közelében\, a szeredi úton) \nKezdés mindkét napon: 9.00
URL:https://szlomasport.sk/esemeny/westernlovas-bajnoksag-galantan/
LOCATION:Galánta\, Galánta\, Szlovákia
END:VEVENT
BEGIN:VEVENT
DTSTART;VALUE=DATE:20170930
DTEND;VALUE=DATE:20171001
DTSTAMP:20260424T181959
CREATED:20170822T080632Z
LAST-MODIFIED:20170929T084600Z
UID:14852-1506729600-1506815999@szlomasport.sk
SUMMARY:Futás Gútoron
DESCRIPTION:GutoRUN 2017 futóverseny \nHelyszín: Gútor \nVersenykategóriák: óvodások -- 200 m\, alapiskolások\, alsó tagozat -- 750 m\, alapiskolások\, felső tagozat -- 1320 m\, Easy futás 2\,3 km (legjobb idő: 10:14 perc)\, hobbifutás -- 5\,6 km (19:07)\, főtáv -- 10 km (34:52)\, családi váltó -- 3 x 100 m. \nRajt: 9.30\, főversenyszám: 11.00
URL:https://szlomasport.sk/esemeny/futas-gutoron/
LOCATION:Gútor\, Gútor\, Szlovákia
ATTACH;FMTTYPE=image/jpeg:https://szlomasport.sk/wp-content/uploads/2017/08/GutorRUN-facebook.jpg
END:VEVENT
BEGIN:VEVENT
DTSTART;VALUE=DATE:20170930
DTEND;VALUE=DATE:20171002
DTSTAMP:20260424T181959
CREATED:20170929T083837Z
LAST-MODIFIED:20170929T083837Z
UID:14943-1506729600-1506902399@szlomasport.sk
SUMMARY:ETTU Kupa Somorján
DESCRIPTION:A második legrangosabb európai asztalitenisz klubkupa-sorozat 1. fordulója a hodosi férficsapattal \nHelyszín: Somorja (Samaria Sportcentrum) \nKezdés: szombat.10.00 \nA háromszoros szlovák bajnok és egyszeres Szuperliga-győztes csallóközi alakulat műsora \nSzombat\, 14.00: SK Vydrany--Sarkuysan Sport Kulübü (török) \n19.00: SK Vydrany--Fortuna Kijev (ukrán) \nVasárnap\, 10.00: SK Vydrany--Clube Desportivo Sao Roque (portugál) \n14.00: SK Vydrany--Türk Telekom Ankara SC (török)
URL:https://szlomasport.sk/esemeny/ettu-kupa-somorjan/
LOCATION:Somorja\, Somorja\, Szlovákia
ATTACH;FMTTYPE=image/jpeg:https://szlomasport.sk/wp-content/uploads/2017/09/hodos-ettu1_n.jpg
END:VEVENT
END:VCALENDAR