BEGIN:VCALENDAR
VERSION:2.0
PRODID:-//SZLOMASPORT - ECPv6.5.1.5//NONSGML v1.0//EN
CALSCALE:GREGORIAN
METHOD:PUBLISH
X-WR-CALNAME:SZLOMASPORT
X-ORIGINAL-URL:https://szlomasport.sk
X-WR-CALDESC:Events for SZLOMASPORT
REFRESH-INTERVAL;VALUE=DURATION:PT1H
X-Robots-Tag:noindex
X-PUBLISHED-TTL:PT1H
BEGIN:VTIMEZONE
TZID:Europe/Bratislava
BEGIN:DAYLIGHT
TZOFFSETFROM:+0100
TZOFFSETTO:+0200
TZNAME:CEST
DTSTART:20170326T010000
END:DAYLIGHT
BEGIN:STANDARD
TZOFFSETFROM:+0200
TZOFFSETTO:+0100
TZNAME:CET
DTSTART:20171029T010000
END:STANDARD
END:VTIMEZONE
BEGIN:VEVENT
DTSTART;VALUE=DATE:20170929
DTEND;VALUE=DATE:20170930
DTSTAMP:20260424T181825
CREATED:20170928T082045Z
LAST-MODIFIED:20170928T085619Z
UID:14937-1506643200-1506729599@szlomasport.sk
SUMMARY:Kispályás foci Ipolyságon
DESCRIPTION:45. Ipoly Kupa és 8\, Ferdinand Daučík Emléktorna nemzetközi mérkőzéssorozat középiskolás csapatok részvételével \nHelyszín: Ipolyság \nKezdés: 9.00 \nInduló iskolák: Valašské Meziříčí (gimnázium)\, Krupina (gimnázium)\, Šurany (gimnázium -- címvédő)\, Szécsény (Liptay Béla Mezőgazdasági Szakközépiskola)\, Vác (Madách Imre Gimnázium)\, Ipolyság (Szakközépiskola\, Fegyverneki Ferenc Közös Igazgatású Katolikus Iskola  --  FF KIKI\,   szlovák gimnázium\, Szondy György Gimnázium) \n11.00: megemlékezés az Európa-udvarban és Ferdinand Daučík emléktáblájának megkoszorúzása \nDíszvendégek: Duna II Antal olimpiai bajnok és ezüstérmes magyar labdarúgó\, Milan Dolinský Eb-bronzérmes szlovák labdarúgó és Asványi László sportvezető\, atlétikai szakember
URL:https://szlomasport.sk/esemeny/kispalyas-foci-ipolysagon/
LOCATION:Ipolyság\, Ipolyság\, Szlovákia
ATTACH;FMTTYPE=image/jpeg:https://szlomasport.sk/wp-content/uploads/2017/09/Daucik-2017-1-Custom.jpg
END:VEVENT
END:VCALENDAR