BEGIN:VCALENDAR
VERSION:2.0
PRODID:-//SZLOMASPORT - ECPv6.5.1.5//NONSGML v1.0//EN
CALSCALE:GREGORIAN
METHOD:PUBLISH
X-ORIGINAL-URL:https://szlomasport.sk
X-WR-CALDESC:Events for SZLOMASPORT
REFRESH-INTERVAL;VALUE=DURATION:PT1H
X-Robots-Tag:noindex
X-PUBLISHED-TTL:PT1H
BEGIN:VTIMEZONE
TZID:Europe/Bratislava
BEGIN:DAYLIGHT
TZOFFSETFROM:+0100
TZOFFSETTO:+0200
TZNAME:CEST
DTSTART:20170326T010000
END:DAYLIGHT
BEGIN:STANDARD
TZOFFSETFROM:+0200
TZOFFSETTO:+0100
TZNAME:CET
DTSTART:20171029T010000
END:STANDARD
END:VTIMEZONE
BEGIN:VEVENT
DTSTART;VALUE=DATE:20170916
DTEND;VALUE=DATE:20170917
DTSTAMP:20260424T194813
CREATED:20170915T163418Z
LAST-MODIFIED:20170915T163418Z
UID:14898-1505520000-1505606399@szlomasport.sk
SUMMARY:6. Csallóközkürt--Felsővámos--Vásárút futóverseny
DESCRIPTION:Egyre népszerűbb  csallóközi sportesemény\, három falu összefogásával \nRajt: 13.00\nSzervező: Vásárút község\, Felsővámos község\, Csallóközkürt község\, Vásárúti Futóklub\, Csallóközi Marathon Club\nNevezés: Vásárúti alapiskola\, 10.30 - 12.30 óráig\nVersenytávok:\n10 km - rajt Csallóközkürtön /sportpálya/ - a versenyzőket 12.30-kor autóbusz szállítja a rajthoz\n3 km - rajt Vásárúton\nÖltözési és tisztálkodási lehetőség a vásárúti alapiskolában lesz biztosítva.
URL:https://szlomasport.sk/esemeny/6-csallokozkurt-felsovamos-vasarut-futoverseny/
LOCATION:Csallóközkürt\, Csallóközkürt\, Szlovákia
ATTACH;FMTTYPE=image/jpeg:https://szlomasport.sk/wp-content/uploads/2017/09/haromfalufut-Custom.jpg
END:VEVENT
END:VCALENDAR