BEGIN:VCALENDAR
VERSION:2.0
PRODID:-//SZLOMASPORT - ECPv6.5.1.5//NONSGML v1.0//EN
CALSCALE:GREGORIAN
METHOD:PUBLISH
X-WR-CALNAME:SZLOMASPORT
X-ORIGINAL-URL:https://szlomasport.sk
X-WR-CALDESC:Events for SZLOMASPORT
REFRESH-INTERVAL;VALUE=DURATION:PT1H
X-Robots-Tag:noindex
X-PUBLISHED-TTL:PT1H
BEGIN:VTIMEZONE
TZID:Europe/Bratislava
BEGIN:DAYLIGHT
TZOFFSETFROM:+0100
TZOFFSETTO:+0200
TZNAME:CEST
DTSTART:20170326T010000
END:DAYLIGHT
BEGIN:STANDARD
TZOFFSETFROM:+0200
TZOFFSETTO:+0100
TZNAME:CET
DTSTART:20171029T010000
END:STANDARD
END:VTIMEZONE
BEGIN:VEVENT
DTSTART;VALUE=DATE:20170909
DTEND;VALUE=DATE:20170911
DTSTAMP:20260424T194730
CREATED:20170502T083058Z
LAST-MODIFIED:20170907T082318Z
UID:14418-1504915200-1505087999@szlomasport.sk
SUMMARY:Westernlovasverseny Galántán
DESCRIPTION:Csodálatos környezetben csatáznak a sportág képviselői \nHelyszín: Ezüst-tó Ranch (Galánta közelében\, a szeredi úton) \nGyorsasági és borjús versenyszámok
URL:https://szlomasport.sk/esemeny/westernlovasverseny-galantan-2/
LOCATION:Galánta\, Galánta\, Szlovákia
END:VEVENT
END:VCALENDAR