BEGIN:VCALENDAR
VERSION:2.0
PRODID:-//SZLOMASPORT - ECPv6.5.1.5//NONSGML v1.0//EN
CALSCALE:GREGORIAN
METHOD:PUBLISH
X-ORIGINAL-URL:https://szlomasport.sk
X-WR-CALDESC:Events for SZLOMASPORT
REFRESH-INTERVAL;VALUE=DURATION:PT1H
X-Robots-Tag:noindex
X-PUBLISHED-TTL:PT1H
BEGIN:VTIMEZONE
TZID:Europe/Bratislava
BEGIN:DAYLIGHT
TZOFFSETFROM:+0100
TZOFFSETTO:+0200
TZNAME:CEST
DTSTART:20170326T010000
END:DAYLIGHT
BEGIN:STANDARD
TZOFFSETFROM:+0200
TZOFFSETTO:+0100
TZNAME:CET
DTSTART:20171029T010000
END:STANDARD
END:VTIMEZONE
BEGIN:VEVENT
DTSTART;VALUE=DATE:20170902
DTEND;VALUE=DATE:20170903
DTSTAMP:20260424T194812
CREATED:20170515T083253Z
LAST-MODIFIED:20170901T082803Z
UID:14479-1504310400-1504396799@szlomasport.sk
SUMMARY:Westernlovagló Vándorkupa Tardoskedden
DESCRIPTION:A kilenc versenyből álló azonos nevű sorozat nyolcadik állomása \nHelyszín: Tardoskedd (Palomino Lovasklub telepe) \nKezdés: 11.00 \nVersenyszámok: szlalom\, hordókerülés \nVersenykategóriák: póni\, juniorok\, open\, profi open
URL:https://szlomasport.sk/esemeny/westernlovaglo-vandorkupa-tardoskedden/
LOCATION:Tardoskedd\, Tardoskedd\, Szlovákia
END:VEVENT
BEGIN:VEVENT
DTSTART;VALUE=DATE:20170902
DTEND;VALUE=DATE:20170903
DTSTAMP:20260424T194812
CREATED:20170802T102548Z
LAST-MODIFIED:20170817T140902Z
UID:14786-1504310400-1504396799@szlomasport.sk
SUMMARY:Sakk Bátorkeszin
DESCRIPTION:EuroPRESS CUP és Kráľ Klaudia Emlékverseny a 2016-ban elhunyt sakkozó lány tiszteletére \nVersenykategóriák: alaposkolás lányok és fiúk \nHelyszín: Bátorkeszi (kultúrház) \nNevezés: 9.00--9.00 \nTudnivaló: 7 forduló\, 15 perces partik \nVersenyigazgató: Pallag György \n 
URL:https://szlomasport.sk/esemeny/sakk-batorkeszin/
LOCATION:Bátorkeszi\, Bátorkeszi\, Szlovákia
END:VEVENT
BEGIN:VEVENT
DTSTART;VALUE=DATE:20170902
DTEND;VALUE=DATE:20170904
DTSTAMP:20260424T194812
CREATED:20170818T084251Z
LAST-MODIFIED:20170818T084425Z
UID:14847-1504310400-1504483199@szlomasport.sk
SUMMARY:Medvesalji Gasztro Kerékpártúra
DESCRIPTION:A Medvesalja Polgári Társulás rendezvénye \nHelyszín: Egyházasbást (Újbást) \nÉrkezik Kun Ádám BMX-világbajnok\, aki bemutatót tart \nKERÉKPÁRTÚRÁK A HÉTVÉGE FOLYAMÁN: \n2017. szeptember 2. (szombat)\n13.00 – 16.30 Két keréken a legendák nyomában. Hat falu\, hat jellegzetes palóc étel és nevezetesség a medvesalji falvakban.\nKiindulási pont: Pogányvár Fogadó (Egyházasbást)\nOrszágúti kerékpártúra a medvesalji falvak érintésével\, kóstolásokkal.\nTúravezető: Kovács Roland \n2017. szeptember 3. (vasárnap)\n 9.00 - 16.00 Biciklitúrák választás szerint \nELSŐ ÚTVONAL: MEDVÉS-KÖR (KARANCS-MEDVES TÚRA)\nKiindulási pont: Somoskőújfalu (HU) - Vargánya Vendégház\n63 km-es végig kitáblázott\, hivatalos útvonal\nTúravezető: Bíró Zsolt (Somoskőújfalu) \nMÁSODIK ÚTVONAL: EGYHÁZASBÁST (ÚJBÁST) - SALGÓTARJÁN - FÜLEK - EGYHÁZASBÁST (ÚJBÁST)\nKiindulási pont: Pogányvár Fogadó (Egyházasbást)\nOrszágúti kerékpártúra (67 km)\nMegálló Rónafalunál – Kemencés finomságok és babos káposzta Gulyás András vendéglátásában\nTúravezető: JAKAB SÁNDOR (HAZAJÁRÓ)\, Lőrincz Gyula (Salgótarján) \nMinden itt felsorolt biciklitúra regisztrációhoz kötött! A regisztráció határideje AUGUSZTUS 21. \nSzámos  kísérőrendezvénye lesz a túrának. \nBŐVEBB INFORMÁCIÓK ÉS REGISZTRÁCIÓ:\nfacebook.com/Medvesalja Turizmus\nmedvesalja@gmail.com\nVincze Gábor (+421 908 915 458)\nMede Szabolcs (+421 915 283 346)
URL:https://szlomasport.sk/esemeny/medvesalji-gasztro-kerekpartura/
LOCATION:Egyházasbást\, Egyházasbást\, Szlovákia
ATTACH;FMTTYPE=image/jpeg:https://szlomasport.sk/wp-content/uploads/2017/08/medvesaljakerekpartura2017.jpg
END:VEVENT
END:VCALENDAR