BEGIN:VCALENDAR
VERSION:2.0
PRODID:-//SZLOMASPORT - ECPv6.5.1.5//NONSGML v1.0//EN
CALSCALE:GREGORIAN
METHOD:PUBLISH
X-ORIGINAL-URL:https://szlomasport.sk
X-WR-CALDESC:Events for SZLOMASPORT
REFRESH-INTERVAL;VALUE=DURATION:PT1H
X-Robots-Tag:noindex
X-PUBLISHED-TTL:PT1H
BEGIN:VTIMEZONE
TZID:Europe/Bratislava
BEGIN:DAYLIGHT
TZOFFSETFROM:+0100
TZOFFSETTO:+0200
TZNAME:CEST
DTSTART:20170326T010000
END:DAYLIGHT
BEGIN:STANDARD
TZOFFSETFROM:+0200
TZOFFSETTO:+0100
TZNAME:CET
DTSTART:20171029T010000
END:STANDARD
END:VTIMEZONE
BEGIN:VEVENT
DTSTART;VALUE=DATE:20170812
DTEND;VALUE=DATE:20170814
DTSTAMP:20260424T225726
CREATED:20170416T092920Z
LAST-MODIFIED:20170810T103706Z
UID:14327-1502496000-1502668799@szlomasport.sk
SUMMARY:Dijlovaglóverseny Dunatőkésen
DESCRIPTION:4. Donau-Bohemia Trophy\, a közép-európai országok nemzetközi versenysorozata\, szlovákiai állomás\, a sorozat idei harmadik versenye \nHelyszín: Dunatőkés (Czajlik-rancs\, fedeles lovarda) \nKezdés: 9.00 \nRésztvevő országok: Csehország\, Ausztria\, Magyarország és Szlovákia \nNaponta hét versenyszám \n  \n 
URL:https://szlomasport.sk/esemeny/dijlovaglo-verseny-dunatokesen/
LOCATION:Dunatőkés\, Dunatőkés\, Szlovákia
END:VEVENT
END:VCALENDAR