BEGIN:VCALENDAR
VERSION:2.0
PRODID:-//SZLOMASPORT - ECPv6.5.1.5//NONSGML v1.0//EN
CALSCALE:GREGORIAN
METHOD:PUBLISH
X-WR-CALNAME:SZLOMASPORT
X-ORIGINAL-URL:https://szlomasport.sk
X-WR-CALDESC:Events for SZLOMASPORT
REFRESH-INTERVAL;VALUE=DURATION:PT1H
X-Robots-Tag:noindex
X-PUBLISHED-TTL:PT1H
BEGIN:VTIMEZONE
TZID:Europe/Bratislava
BEGIN:DAYLIGHT
TZOFFSETFROM:+0100
TZOFFSETTO:+0200
TZNAME:CEST
DTSTART:20170326T010000
END:DAYLIGHT
BEGIN:STANDARD
TZOFFSETFROM:+0200
TZOFFSETTO:+0100
TZNAME:CET
DTSTART:20171029T010000
END:STANDARD
END:VTIMEZONE
BEGIN:VEVENT
DTSTART;VALUE=DATE:20170811
DTEND;VALUE=DATE:20170812
DTSTAMP:20260424T212142
CREATED:20170426T064615Z
LAST-MODIFIED:20170609T081154Z
UID:14386-1502409600-1502495999@szlomasport.sk
SUMMARY:Tizenegyesrúgó-verseny Gútán
DESCRIPTION:A  városi vásár és búcsú hagyományos sportrendezvényének tizenkettedik felvonása \nHelyszín: Gúta (Gőgh Kálmán Stadion) \nKezdés: 15.00 \nBárki jelentkezhet \nHonlapunk a verseny médiapartnere
URL:https://szlomasport.sk/esemeny/tizenegyesrugo-verseny-gutan/
LOCATION:Gúta\, Gúta\, Szlovákia
ATTACH;FMTTYPE=image/jpeg:https://szlomasport.sk/wp-content/uploads/2017/04/guta11esek2017.jpg
END:VEVENT
END:VCALENDAR