BEGIN:VCALENDAR
VERSION:2.0
PRODID:-//SZLOMASPORT - ECPv6.5.1.5//NONSGML v1.0//EN
CALSCALE:GREGORIAN
METHOD:PUBLISH
X-ORIGINAL-URL:https://szlomasport.sk
X-WR-CALDESC:Events for SZLOMASPORT
REFRESH-INTERVAL;VALUE=DURATION:PT1H
X-Robots-Tag:noindex
X-PUBLISHED-TTL:PT1H
BEGIN:VTIMEZONE
TZID:Europe/Bratislava
BEGIN:DAYLIGHT
TZOFFSETFROM:+0100
TZOFFSETTO:+0200
TZNAME:CEST
DTSTART:20170326T010000
END:DAYLIGHT
BEGIN:STANDARD
TZOFFSETFROM:+0200
TZOFFSETTO:+0100
TZNAME:CET
DTSTART:20171029T010000
END:STANDARD
END:VTIMEZONE
BEGIN:VEVENT
DTSTART;VALUE=DATE:20170730
DTEND;VALUE=DATE:20170731
DTSTAMP:20260425T002303
CREATED:20170414T091103Z
LAST-MODIFIED:20170728T090543Z
UID:14323-1501372800-1501459199@szlomasport.sk
SUMMARY:XXIV. Tőkési Kupa
DESCRIPTION:Hagyományos nemzetközi díjugratóverseny \nHelyszín: Dunatőkés (Czajlik-rancs) \nProgram: \n11.00: Szentmise\n14.00: XXIV. Tőkési kupa \nVersenyszámok: \n\nZ 100 cm\nZL 110 cm -- Abanderáda díja\nL 120 cm -- Tőkési Kupa\nMini maxi -- Igazgatói Kupa\n\nKözben zenés díjlovas-\, westernlovas-\, fogathajtó- és lovastorna-bemutató\n20.00: Lovas színház \n 
URL:https://szlomasport.sk/esemeny/xxiv-tokesi-kupa/
LOCATION:Dunatőkés\, Dunatőkés\, Szlovákia
ATTACH;FMTTYPE=image/jpeg:https://szlomasport.sk/wp-content/uploads/2017/04/tokesikupa2017-Custom.jpg
END:VEVENT
END:VCALENDAR