BEGIN:VCALENDAR
VERSION:2.0
PRODID:-//SZLOMASPORT - ECPv6.5.1.5//NONSGML v1.0//EN
CALSCALE:GREGORIAN
METHOD:PUBLISH
X-WR-CALNAME:SZLOMASPORT
X-ORIGINAL-URL:https://szlomasport.sk
X-WR-CALDESC:Events for SZLOMASPORT
REFRESH-INTERVAL;VALUE=DURATION:PT1H
X-Robots-Tag:noindex
X-PUBLISHED-TTL:PT1H
BEGIN:VTIMEZONE
TZID:Europe/Bratislava
BEGIN:DAYLIGHT
TZOFFSETFROM:+0100
TZOFFSETTO:+0200
TZNAME:CEST
DTSTART:20170326T010000
END:DAYLIGHT
BEGIN:STANDARD
TZOFFSETFROM:+0200
TZOFFSETTO:+0100
TZNAME:CET
DTSTART:20171029T010000
END:STANDARD
END:VTIMEZONE
BEGIN:VEVENT
DTSTART;VALUE=DATE:20170722
DTEND;VALUE=DATE:20170723
DTSTAMP:20260424T225619
CREATED:20170414T090730Z
LAST-MODIFIED:20170721T082841Z
UID:14320-1500681600-1500767999@szlomasport.sk
SUMMARY:Állatmenhelyek közti futás
DESCRIPTION:2. Futás a komáromi Dunajka állatmenhelytől a nagymegyeri Dogazyl állatmenhelyig \n48 km\, 2 állatmenhely\, 10 község... 1 zenekar.. 1 rádió \nHonlapunk az esemény médiapartnere \nTöbb a mellékelt plakáton található \n 
URL:https://szlomasport.sk/esemeny/allatmenhelyek-kozti-futas/
LOCATION:Komárom\, Komárom\, Szlovákia
ATTACH;FMTTYPE=image/jpeg:https://szlomasport.sk/wp-content/uploads/2017/04/masmeghely2017.jpg
END:VEVENT
BEGIN:VEVENT
DTSTART;VALUE=DATE:20170722
DTEND;VALUE=DATE:20170723
DTSTAMP:20260424T225619
CREATED:20170721T084039Z
LAST-MODIFIED:20170721T084039Z
UID:14751-1500681600-1500767999@szlomasport.sk
SUMMARY:5. Ipoly Menti Futás
DESCRIPTION:Futó-\, görkorcsolya- és nordic walker-verseny két nógrádi település\, Losonc és Rapp között \nNevezés: 15.30--17.30 (rappi futballpálya) \nRajt: 18.00 (Timrava-színház előtt\, Losonc) \nCél: Rapp (futballpálya) \nTáv: 6\,5  km \nEgyszerre indul a mezőny mindhárom sportágban
URL:https://szlomasport.sk/esemeny/5-ipoly-menti-futas/
LOCATION:Losonc\, Losonc\, Szlovákia
END:VEVENT
BEGIN:VEVENT
DTSTART;VALUE=DATE:20170722
DTEND;VALUE=DATE:20170723
DTSTAMP:20260424T225619
CREATED:20170518T090451Z
LAST-MODIFIED:20170721T083341Z
UID:14507-1500681600-1500767999@szlomasport.sk
SUMMARY:Fogathajtás Gútán
DESCRIPTION:A nyolc versenyből álló dél-szlovákiai sorozat idei ötödik állomása \nHelyszín: Gúta (Szekeres-ranch\, Nagygúta 4\, már nem a malomnál!) \nKezdés: 11.00 \nVersenyszámok: kétfordulós akadályhajtás egyszeri összevetéssel és vadászhajtás \nEmellett egész napos program lovaglással és kocsizással a gyerekeknek
URL:https://szlomasport.sk/esemeny/fogathajtas-gutan/
LOCATION:Gúta\, Gúta\, Szlovákia
END:VEVENT
END:VCALENDAR