BEGIN:VCALENDAR
VERSION:2.0
PRODID:-//SZLOMASPORT - ECPv6.5.1.5//NONSGML v1.0//EN
CALSCALE:GREGORIAN
METHOD:PUBLISH
X-WR-CALNAME:SZLOMASPORT
X-ORIGINAL-URL:https://szlomasport.sk
X-WR-CALDESC:Events for SZLOMASPORT
REFRESH-INTERVAL;VALUE=DURATION:PT1H
X-Robots-Tag:noindex
X-PUBLISHED-TTL:PT1H
BEGIN:VTIMEZONE
TZID:Europe/Bratislava
BEGIN:DAYLIGHT
TZOFFSETFROM:+0100
TZOFFSETTO:+0200
TZNAME:CEST
DTSTART:20170326T010000
END:DAYLIGHT
BEGIN:STANDARD
TZOFFSETFROM:+0200
TZOFFSETTO:+0100
TZNAME:CET
DTSTART:20171029T010000
END:STANDARD
END:VTIMEZONE
BEGIN:VEVENT
DTSTART;VALUE=DATE:20170624
DTEND;VALUE=DATE:20170625
DTSTAMP:20260425T002143
CREATED:20170419T095412Z
LAST-MODIFIED:20170419T095412Z
UID:14363-1498262400-1498348799@szlomasport.sk
SUMMARY:XIX. Bódva-kupa
DESCRIPTION:Három sportágban rendezett egyedülálló verseny\, közös rajttal \nHelyszín: Szepsi (versenyközpont) \nRajt: 9.00 \nSportágak: futás (atlétika)\, görkorcsolya\, kerékpár \nTovábbi részletek itt olvashatók
URL:https://szlomasport.sk/esemeny/xix-bodva-kupa/
LOCATION:Szepsi\, Szepsi\, Szlovákia
END:VEVENT
BEGIN:VEVENT
DTSTART;VALUE=DATE:20170624
DTEND;VALUE=DATE:20170625
DTSTAMP:20260425T002143
CREATED:20170516T091123Z
LAST-MODIFIED:20170622T065218Z
UID:14490-1498262400-1498348799@szlomasport.sk
SUMMARY:Fogathajtás Feketenyéken
DESCRIPTION:A nyolc versenyből álló dél-szlovákiai sorozat idei harmadik állomása \nHelyszín: Feketenyék (GG Ranch) \nKezdés: 10.00 \nVersenyszámok: kettes fogatok kétfordulós akadályhajtása\, összevetés\, vadászhajtás
URL:https://szlomasport.sk/esemeny/fogathajtas-feketenyeken/
LOCATION:Feketenyék\, Feketenyék\, Szlovákia
END:VEVENT
BEGIN:VEVENT
DTSTART;VALUE=DATE:20170624
DTEND;VALUE=DATE:20170625
DTSTAMP:20260425T002143
CREATED:20170525T073730Z
LAST-MODIFIED:20170605T082028Z
UID:14545-1498262400-1498348799@szlomasport.sk
SUMMARY:Vezetett gyalogtúra Fülekről
DESCRIPTION:A Geopark Novohrad-Nógrád J.Sz.T. és a füleki Nógrádi Turisztikai Információs Központ rendezvénye \nTalálka: Fülek (8.30-kor a városi művelődési központ előtt) \nÚtvonal: Fülek – Salgótarján – Béri andezit oszlopok – Szentkút – Fülek \nTáv: 12 km \nTúravezető: Prakfalvi Péter geológus \nJelentkezés és további információk: Nógrádi Turisztikai Információs Központ irodája\,\nFülek\, Várfelső utca / Podhradská 14.\, tel.: +421 (0)47 4382 016\, mobil: +421 918 994 481 e-mail: ntic@hradfilakovo.sk vagy a Geopark Novohrad-Nógrád J.Sz.T. irodája\, irodavezető: Puntigán József\, Fülek\nVárfelső utca / Podhradská 14\, mobil: +421 (0)917 646 551\, e-mail: geopark.filakovo@gmail.com.
URL:https://szlomasport.sk/esemeny/vezetett-gyalogtura-fulekrol-2/
LOCATION:Fülek\, Fülek\, Szlovákia
ATTACH;FMTTYPE=image/jpeg:https://szlomasport.sk/wp-content/uploads/2017/05/fulekjun24.jpg
END:VEVENT
BEGIN:VEVENT
DTSTART;VALUE=DATE:20170624
DTEND;VALUE=DATE:20170702
DTSTAMP:20260425T002143
CREATED:20170529T082614Z
LAST-MODIFIED:20170622T064538Z
UID:14560-1498262400-1498953599@szlomasport.sk
SUMMARY:Sakk Dunaszerdahelyen
DESCRIPTION:I. Polgármester-kupa zárt\, 9 fordulós nemzetközi nagymestertorna a Slovakia Tour-sorozat  keretében \nHelyszín: Dunaszerdahely (művelődési ház) \nA műsor \n2017. június 24. -- 14.00: 1. forduló \n2017. június 25. -- 14.00: 2. forduló \n2017. június 26. -- 9.00: 3. forduló\, 15.00: 4. forduló \n2017. június 27. -- 14.00: 5. forduló \n2017. június 28. -- 14.00: 6. forduló \n2017. június 29. -- 14. 00: 7. forduló \n2017. június 30. -- 14.00: 8. forduló \n2017. július 1. -- 9.00: 9. forduló \nA mezőny itt nézhető meg: http://chess-results.com/tnr280411.aspx?lan=4
URL:https://szlomasport.sk/esemeny/sakk-dunaszerdahelyen/
LOCATION:Dunaszerdahely\, Dunaszerdahely\, Szlovákia
END:VEVENT
BEGIN:VEVENT
DTSTART;VALUE=DATE:20170624
DTEND;VALUE=DATE:20170625
DTSTAMP:20260425T002143
CREATED:20170609T083330Z
LAST-MODIFIED:20170622T064929Z
UID:14611-1498262400-1498348799@szlomasport.sk
SUMMARY:IX. Kék Duna Futás
DESCRIPTION:Hagyományos futóverseny a Duna mentén \nVersenyközpont: Dunamocs (főtér) \nNevezés: 9.00-tól \nRajt: 11.00 \nKategóriák: 400 m\, 1200 m\, 5 km\, 15 km\, súlykategória (40/80)-- új!!! \nÚtvonal: Dunamocs-Karva és vissza
URL:https://szlomasport.sk/esemeny/ix-kek-duna-futas/
LOCATION:Dunamocs\, Dunamocs\, Szlovákia
ATTACH;FMTTYPE=image/jpeg:https://szlomasport.sk/wp-content/uploads/2017/06/9.-kékduna.jpg
END:VEVENT
BEGIN:VEVENT
DTSTART;VALUE=DATE:20170624
DTEND;VALUE=DATE:20170625
DTSTAMP:20260425T002143
CREATED:20170616T092344Z
LAST-MODIFIED:20170622T070440Z
UID:14641-1498262400-1498348799@szlomasport.sk
SUMMARY:Focitorna Királyréven
DESCRIPTION:Agrostaar Cup 2017 kispályás torna tizenöt csapat részvételével \nHelyszín: Királyrév \nKezdés: 8.30 \nCímvédő: Dream Team Dunaszerdahely
URL:https://szlomasport.sk/esemeny/focitorna-kiralyreven/
LOCATION:Királyrév\, Királyrév\, Szlovákia
END:VEVENT
BEGIN:VEVENT
DTSTART;VALUE=DATE:20170624
DTEND;VALUE=DATE:20170625
DTSTAMP:20260425T002143
CREATED:20170622T071155Z
LAST-MODIFIED:20170622T073541Z
UID:14694-1498262400-1498348799@szlomasport.sk
SUMMARY:Focitorna Vágán
DESCRIPTION:18. Minicup hagyományos kispályás torna \nHelyszín: Vága \nKezdés: 9.00 \nKözben: 11-esrúgó verseny
URL:https://szlomasport.sk/esemeny/focitorna-vagan/
LOCATION:Vága\, Vága\, Szlovákia
END:VEVENT
BEGIN:VEVENT
DTSTART;TZID=Europe/Bratislava:20170624T080000
DTEND;TZID=Europe/Bratislava:20170624T170000
DTSTAMP:20260425T002143
CREATED:20170614T085010Z
LAST-MODIFIED:20170622T070021Z
UID:14620-1498291200-1498323600@szlomasport.sk
SUMMARY:Füleki Városi Sportnap
DESCRIPTION:A nógrádi város évente ismétlődő sporteseménye \nHelyszín: Fülek (FTC sportpálya) \nKezdés: 8.30 \nEsemények: 24. Polgármesteri kupa felnőttek és diákok labdarúgótornája \n3. FTC-elnöki kupa teketorna \n1. Füleki alapiskolások atlétikai versenye \n 
URL:https://szlomasport.sk/esemeny/fuleki-varosi-sportnap/
LOCATION:Fülek\, Fülek\, Szlovákia
ATTACH;FMTTYPE=image/jpeg:https://szlomasport.sk/wp-content/uploads/2017/06/fuleksportnap2017.jpg
END:VEVENT
END:VCALENDAR