BEGIN:VCALENDAR
VERSION:2.0
PRODID:-//SZLOMASPORT - ECPv6.5.1.5//NONSGML v1.0//EN
CALSCALE:GREGORIAN
METHOD:PUBLISH
X-WR-CALNAME:SZLOMASPORT
X-ORIGINAL-URL:https://szlomasport.sk
X-WR-CALDESC:Events for SZLOMASPORT
REFRESH-INTERVAL;VALUE=DURATION:PT1H
X-Robots-Tag:noindex
X-PUBLISHED-TTL:PT1H
BEGIN:VTIMEZONE
TZID:Europe/Bratislava
BEGIN:DAYLIGHT
TZOFFSETFROM:+0100
TZOFFSETTO:+0200
TZNAME:CEST
DTSTART:20170326T010000
END:DAYLIGHT
BEGIN:STANDARD
TZOFFSETFROM:+0200
TZOFFSETTO:+0100
TZNAME:CET
DTSTART:20171029T010000
END:STANDARD
END:VTIMEZONE
BEGIN:VEVENT
DTSTART;VALUE=DATE:20170617
DTEND;VALUE=DATE:20170618
DTSTAMP:20260425T002144
CREATED:20170502T081558Z
LAST-MODIFIED:20170521T104012Z
UID:14413-1497657600-1497743999@szlomasport.sk
SUMMARY:31. Triatlonfesztivál Udvardon
DESCRIPTION:Az úszásból\, kerékpározásból és futásból álló sportág hagyományos versenye az Érsekújvár közelében fekvő településen \nMűsor - 10.00: fiatalabb és idősebb diákok országos bajnoksága \n10.30: Szupersprint férfiaknak és nőknek (0\,35 km úszás--10 km kerékpározás--2\,5 km futás) \n13.00: Mikrotriatlon (0\,75 km úszás--20 km kerékpározás--5 km futás) \nHelyszín: 1-es számú kavicsbánya (úszás)\, Udvard és Érsekújvár közötti országút (kerékpár)\, aszfaltburlatú pálya (futás) \nAz esemény a Szlovák Kupa-sorozatba tartozik az ifik\, juniorok\, férfiak és nők számára \nA versenykiírás itt olvasható: \nTRIATLON FESZTIVÁL - 31.évf.\nDVORY NAD ŽITAVOU\, 2017. JÚN. 17. \nDIÁK TRIATLON\nSzlovák ranglistaverseny\nMIKROTRIATLON  0\,75 – 20 – 5km\nSzlovák ranglistaverseny\nSZUPERSPRINT  TRIATLON  0\,35 – 10 – 2\,5km\nRendező: TK TRIATLON Dvory nad Žitavou - Udvard\nMiesto: Dvory nad Žitavou\, 1-es sz. kavicsbánya\nDátum: 2017.06.17. - szombat \n1. Rendező bizottság:\nIng. Branislav Becík\, Ph.D. | polgármester\nIng. František Bernáth | versenyigazgató\nIng. Tibor Németh | technikai igazgató\nIng. František Král | technikai igazgató\nErika Bernáthová | versenyiroda\nMarián Czina | versenybíró\nAnikó Ozoráková | ellenőr \n2. Pályák:\nÚszás – az 1-es sz. kavicsbányán\nKerékpár: - Az Udvard – Érsekújvár közötti 1-es számú főúton oda – vissza 5 km-es enyhe                                        szintkülömbségű pályán .\nFutás – Szintkülömbség nélküli aszfaltburkolatú pályán 1\,25 km-es körön.\nDiákok:\n13 éves korig: 0\,15 – 5 – 1\,25km\n14 – 15 éves: 0\,35 – 10 – 2\,5km\nSzupersprint: 0\,35 – 10 – 2\,5km\nMikrotriatlon: 0\,75 – 20 – 5km \n3. Jelentkezés:\nJelentkezni minden Magyarországi versenyzőnek emailon lehet a befra@befra.sk címen – név\, cím\, szül. dátum\, klub vagy helység feltüntetésével. Helyszíni nevezést csak akkor fogadunk el\, ha az indulók száma az egyes futamokban nem haladja meg a 200-at.\n4. Nevezés:\nLegkésőbb 60 perccel a rajt előtt a versenyirodában. \n5. Nevezési díj:\nDiák triatlon:\n2 EUR – 2017. 06. 05 –ig\n5 EUR - helyszínen \nSupersprint:\n10 EUR 2017. 06. 05 -ig\n15 EUR – helyszínen\nMikrotriatlon:\n20 EUR - 2017. 06. 05 -ig\n30 EUR - helyszínen \nBankszámla:\nIBAN: SK65 0900 0000 0050 3756 1234\nBIC: GIGASKBX \n6. Kategóriák:\nDiákok:\n13 éves korig: 0\,15 – 5 – 1\,25km\n14 – 15 éves: 0\,35 – 10 – 2\,5km\nMikrotriatlon:\nIfjúsági 16 – 17 éves\nJunior 18 – 19 éves\nElite 20 – 39 éves\nAge group Ferfiak: 5 éves felbontásban 60+ -ig\nNők: 5 éves felbontásban 50+ -ig \nSzupersprint:\nFérfi:\n19 évesig\n20-39 éves\n40+\nNők:\n19 évesig\n20-34 éves\n35+ \n7. Díjak:\nDiák triatlon – tárgyjutalom\, érem  1. – 3. hely\nMikrotriatlon - pénzdíj: 650 EUR\nFérfi abszolút: 100-80-70-50-40-30-25-20 EUR\nNői abszolút: 100-70-40-25 EUR\nTöbbi kategória:   tárgyjutalom\, érem  1. – 3. hely\nSzupersprint triatlon – tárgyjutalom\, érem  1. – 3. hely \n8. Egyéb:\nA versenyre a Szlovák Triatlon Szövetség 2017–es versenyszabályzata érvényes.\nBolyázás minden kategóriában engedélyezett.\nRészleges útlezárás mellett zajlik a verseny\, ezért a közlekedési szabályok betartandóak.\nMinden versenyző a saját felelősségére versenyez\, amit a versenyre való bejelentkezéssel bizonyít.\nÚtlezárások:\nA versenyt megközelíthető úton útlezárás lesz a köv. időpontokban:\n10:00 – 11:10 óra\n13:00 – 14:10 óra \n9. Időrend:\nDiák triatlon és szupersprint:\n08:00 - 09:00 Nevezés - versenyiroda\n09:00 - 09:40 Depó nyitva\n09:45 Technikai eligazítás a depónál\n10:00 Rajt – ifjabb diákok\n10:20 Rajt – idősebb diákok\n10:30 Rajt - szupersprint\nDepó nyit az utolsó kerékpáros depóba érkezése után\n12:00 Eredményhirdetés \nMikrotriatlon\n09:00 - 12:00 Nevezés - versenyiroda\n12:00 - 12:40 Depó nyitva\n12:45 Technikai eligazítás a depónál\n13:00 Rajt 1.\n13:10 Esetleges Rajt 2\nDepó nyit az utolsó kerékpáros depóba érkezése után\n15:00 Eredményhirdetés\nAz egyes kategóriák rajtidőpontjárol a versenybíróság dönt a kategóriákba jelentkező versenyzők száma alapján \n10. Részletes információk:\nRészletes információk a pályarajzokkal\, kategóriákkal\, stb. a www.befra.sk  triatlon fiókjában találhatók\, vagy a 00421 905 626662 telefonon is szívesen tájékoztatunk.\nMinden sportolót és hozzátartozót nagy szeretettel várunk Udvardon.\nA rendezők
URL:https://szlomasport.sk/esemeny/31-triatlonfesztival-udvardon/
LOCATION:Udvard\, Udvard\, Szlovákia
END:VEVENT
BEGIN:VEVENT
DTSTART;VALUE=DATE:20170617
DTEND;VALUE=DATE:20170618
DTSTAMP:20260425T002144
CREATED:20170529T081957Z
LAST-MODIFIED:20170615T083855Z
UID:14557-1497657600-1497743999@szlomasport.sk
SUMMARY:Futás és foci Csicsón
DESCRIPTION:A község sportrendezvényei a 12. falunap keretében \nHelyszín: Csicsó (sportpálya) \n4. Csicsói futás \nVersenytávok: 240 m\, 1440 m\, 2400 m\, 4 km\, 10 km \nRajt: 9.30 (óvodások\, alapiskolások)\, 10.00 (4 km\, 10 km) \nBemelegítés: Király Anikóval \nFutballműsor \n9.45: Kezdők (U11) kispályás focitornája. Induló csapatok: FKM Nové Zámky\, Nagykeszi\, Naszvad és Csicsó. \nU15: Csicsó--Lakszakállas \nFelnőttek: Csicsó (A csapat)--klubvezetőség \n  \n 
URL:https://szlomasport.sk/esemeny/4-futas-csicson/
LOCATION:Csicsó\, Csicsó\, Szlovákia
ATTACH;FMTTYPE=image/jpeg:https://szlomasport.sk/wp-content/uploads/2017/05/jocsicso2017-Custom.jpg
END:VEVENT
BEGIN:VEVENT
DTSTART;VALUE=DATE:20170617
DTEND;VALUE=DATE:20170619
DTSTAMP:20260425T002144
CREATED:20170529T083005Z
LAST-MODIFIED:20170615T082008Z
UID:14562-1497657600-1497830399@szlomasport.sk
SUMMARY:Kajak-kenu Komáromban
DESCRIPTION:Komárom város hagyományos\, 59. nagydíja \nHelyszín: Komárom (vízi központ a Vág-Duna partján) \nVersenyek:  szombat 9.30-tól 19.00-ig\, vasárnap 9.00-tól 13.00-ig \nVersenytávok: 500 m (szombat)\, 2 km (szombat\, vasárnap)\, 5 km (vasárnap) \n 
URL:https://szlomasport.sk/esemeny/kajak-kenu-komaromban/
LOCATION:Komárom\, Komárom\, Szlovákia
ATTACH;FMTTYPE=image/jpeg:https://szlomasport.sk/wp-content/uploads/2017/05/59knkajak.jpg
END:VEVENT
END:VCALENDAR