BEGIN:VCALENDAR
VERSION:2.0
PRODID:-//SZLOMASPORT - ECPv6.5.1.5//NONSGML v1.0//EN
CALSCALE:GREGORIAN
METHOD:PUBLISH
X-WR-CALNAME:SZLOMASPORT
X-ORIGINAL-URL:https://szlomasport.sk
X-WR-CALDESC:Events for SZLOMASPORT
REFRESH-INTERVAL;VALUE=DURATION:PT1H
X-Robots-Tag:noindex
X-PUBLISHED-TTL:PT1H
BEGIN:VTIMEZONE
TZID:Europe/Bratislava
BEGIN:DAYLIGHT
TZOFFSETFROM:+0100
TZOFFSETTO:+0200
TZNAME:CEST
DTSTART:20170326T010000
END:DAYLIGHT
BEGIN:STANDARD
TZOFFSETFROM:+0200
TZOFFSETTO:+0100
TZNAME:CET
DTSTART:20171029T010000
END:STANDARD
END:VTIMEZONE
BEGIN:VEVENT
DTSTART;VALUE=DATE:20170603
DTEND;VALUE=DATE:20170604
DTSTAMP:20260425T002142
CREATED:20170414T084826Z
LAST-MODIFIED:20170601T104631Z
UID:14317-1496448000-1496534399@szlomasport.sk
SUMMARY:Gyereknapi focitorna Nagyszigeten
DESCRIPTION:A gútai Gooal Academy kezdőknek rendezett  III. nemzetközi mérkőzéssorozata  két korosztályban \nKorosztályok: U9\, U11 \nHelyszín: Nagysziget (focipálya) \nKezdés: 8.30 \nIndulók - U9 (8 csapat) -- A csoport: Gooal Academy Gúta (kékek)\, FK Slovan Duslo Vágsellye\, VSK Nagymegyer\, Sárosd NKSC. B csoport: Gooal Academy Gúta (vörösek)\, FKM Érsekújvár\, Újpesti TE\, FK Szabadka \nU11 (8) -- A csoport: Gooal Academy Gúta\, Sárosd NKSC\, VSK Nagymegyer\, Union Érsekújvár. B csoport: FKM Érsekújvár\, Újpesti TE\, FK Szabadka\, Taksony SE \n  \nVersenykiírás \nRendező: ŠSK X-Shot Lövészklub Gúta + Gooal Academy Fociiskola Gúta\nHelyszín: Nagysziget (Veľký Ostrov) - focipálya\nIdőpont: 2017.06.03 - szombat (cca. 9:00-től 17:00-ig)\nMinden csapatnak kötelező a regisztráció 08:15-ig!!!\nA rendezvény 08:30-kor ünnepélyes megnyitóval és a csapatok bevonulásával kezdődik.\nNevezési díj: 30.- € kategóriánként\nKategóriák: U11: 2006.01.01 után született fiúk/ 2005.01.01 után született lányok\nU9: 2008.01.01 után született játékosok\nEgy játékos csak egy kategóriában nevezhető!!!\nNevezhető játékosok száma: kategóriánként max. 15 játékos\nA nevezési lapot előre leadni a szervezőknek\, ami tartalmazza: NÉV - SZÜLETÉS ÉVE - MEZSZÁM.\nRésztvevő csapatok:\nU11: Újpesti Torna Egylet (HUN)\, Sárosd NKSC (HUN)\, Taksony SE (HUN)\,\nFK Szabadka (SRB)\, VSK Nagymegyer (SVK)\, FKM Érsekújvár (SVK)\,\nUnion Érsekújvár (SVK)\, Gooal Academy Gúta (SVK)\nU9: Újpesti Torna Egylet (HUN)\, Sárosd NKSC (HUN)\, VSK Nagymegyer (SVK)\,\nFK Szabadka (SRB)\, FKM Érsekújvár (SVK)\, FK Slovan Duslo Vágsellye (SVK)\,\nGooal Academy Gúta - kékek (SVK)\, Gooal Academy Gúta - pirosak (SVK)\nJátékrendszer: csoportmérkőzések + helyosztó mérkőzések\nJátékidő: U11: csoportmérkőzések – 1 x 20 perc; helyosztó mérkőzések – 1 x 25 perc\nU9: csoportmérkőzések – 1 x 20 perc; helyosztó mérkőzések – 1 x 20 perc\nJátékosok száma a pályán:\nU11: 6 mezőnyjátekos + 1 kapus\nU9: 5 mezőnyjátekos + 1 kapus\nPályák méretei:\nU11: 50 x 25 méter\nU9: 40 x 20 méter\nKapuk méretei:\nU11: 5 x 2 méter\nU9: 5 x 2 méter\nFelszerelés: futballcipő\, sportmez számmal\, rövidnadrág\, sportzokni\, sípcsontvédő\nUtazás: saját költségre\nA csoportban a végső sorrendről dönt:\n1. több szerzett pont\n2. egymás elleni mérkőzés\n3. gólarány az egymás elleni mérkőzésekből\n4. gólarány az összes mérkőzésből\n5. több rúgott gól\n6. büntető rúgások (3-3)\nA helyosztó mérkőzéseken döntetlen esetén dönt: büntető rúgások (3-3)\nSzabályok: a torna lebonyolítása a labdarúgás alapvető szabályai\, illetve a következő szabályok szerint történik:\n• mindkét kategóriában 4-es méretű labdával játszanak a csapatok.\n• mindkét kategóriában a kapu előtt narancssárga kúpokkal ki lesz jelölve a büntetőterület (az U9-es kategóriában 8 méterre a kaputól – a pálya egész szélességében\, az U11-es kategóriában 10 méterre a kaputól).\n• a büntetőrúgást az U9-es és az U11-es kategóriában is 8 méterről kell elvégezni.\n• a kapus a labdát játékba hozhatja kidobással\, vagy kirúgással is (akár egyből át is dobhatja\, vagy rúghatja a felezővonalon). Ha a kapus leteszi a labdát a földre\, akkor a labda már játékban van - az ellenfélnek ilyenkor már lehetősége támadni a kapust és gólt szerezni.\n• ha a labda a játéktérről az oldalvonal mögé kerül\, akkor bedobással folytatódik a játék.\n• a kapusról is van szögletrúgás.\n• a szabadrúgások\, illetve a szögletrúgások elvégzésekor az ellenfél játékosainak legalább 5 méterre kell helyezkedniük a labdától.\n• a hazagurított labdáknál a kapus nem foghatja meg kézbe a labdát. Ha mégis így tesz\, akkor közvetett szabadrúgással folytatódik a játék.\n• a lesszabály egyik kategóriánál sincs érvényben.\n• nagyon durva szabálytalanságok esetén a játékos 2 perces büntetést kap. A 2 perc letelte után már csak egy másik játékos léphet a kiállított játékos helyére a pályára. \nElérhetőség: Mgr. Németh Peter\nmobil: +421 911 257 399 e-mail: nemeth.peter.spg@gmail.com
URL:https://szlomasport.sk/esemeny/gyereknapi-focitorna-nagyszigeten/
LOCATION:Nagysziget\, Gúta\, Szlovákia
ATTACH;FMTTYPE=image/jpeg:https://szlomasport.sk/wp-content/uploads/2017/04/nagyszigetfoci.jpg
END:VEVENT
BEGIN:VEVENT
DTSTART;VALUE=DATE:20170603
DTEND;VALUE=DATE:20170604
DTSTAMP:20260425T002142
CREATED:20170418T083239Z
LAST-MODIFIED:20170601T080509Z
UID:14345-1496448000-1496534399@szlomasport.sk
SUMMARY:Triatlon-világbajnokság Csölösztőn
DESCRIPTION:The Championship 2017 nem hivatalos világbajnokság \nHelyszín: Somorja\, Csölösztő (X-bionic sphere sportlétesítmény és környéke) \nVersenyszámok: 1\,9 km úszás\, 90 km kerékpározás\, 21 km futás \n56 ország 900 versenyzője indul
URL:https://szlomasport.sk/esemeny/triatlon-vilagbajnoksag-csoloszton/
LOCATION:Somorja\, Csölösztő\, Somorja\, Szlovákia
END:VEVENT
END:VCALENDAR