BEGIN:VCALENDAR
VERSION:2.0
PRODID:-//SZLOMASPORT - ECPv6.5.1.5//NONSGML v1.0//EN
CALSCALE:GREGORIAN
METHOD:PUBLISH
X-WR-CALNAME:SZLOMASPORT
X-ORIGINAL-URL:https://szlomasport.sk
X-WR-CALDESC:Events for SZLOMASPORT
REFRESH-INTERVAL;VALUE=DURATION:PT1H
X-Robots-Tag:noindex
X-PUBLISHED-TTL:PT1H
BEGIN:VTIMEZONE
TZID:Europe/Bratislava
BEGIN:DAYLIGHT
TZOFFSETFROM:+0100
TZOFFSETTO:+0200
TZNAME:CEST
DTSTART:20170326T010000
END:DAYLIGHT
BEGIN:STANDARD
TZOFFSETFROM:+0200
TZOFFSETTO:+0100
TZNAME:CET
DTSTART:20171029T010000
END:STANDARD
END:VTIMEZONE
BEGIN:VEVENT
DTSTART;VALUE=DATE:20170527
DTEND;VALUE=DATE:20170528
DTSTAMP:20260425T015318
CREATED:20170414T082547Z
LAST-MODIFIED:20170414T082547Z
UID:14309-1495843200-1495929599@szlomasport.sk
SUMMARY:Jótékonysági futóverseny Lakszakállason
DESCRIPTION:5. Fuss a gazdátlan kutyák megmentéséért \nHelyszín: Lakszakállas \nRajt: 11.00 \nNevezés: 10.00-tól a faluközpontban \nHonlapunk a verseny médiapartnere \nA versenykiírás itt olvasható:
URL:https://szlomasport.sk/esemeny/jotekonysagi-futoverseny-lakszakallason/
LOCATION:Lakszakállas\, Lakszakállas\, Szlovákia
ATTACH;FMTTYPE=image/jpeg:https://szlomasport.sk/wp-content/uploads/2017/04/lakszakallasfut.jpg
END:VEVENT
BEGIN:VEVENT
DTSTART;VALUE=DATE:20170527
DTEND;VALUE=DATE:20170528
DTSTAMP:20260425T015318
CREATED:20170414T083325Z
LAST-MODIFIED:20170525T075832Z
UID:14314-1495843200-1495929599@szlomasport.sk
SUMMARY:Jótékonysági futóverseny Gútán
DESCRIPTION:DGS Dögös Sprint (Csilláértfutok) \nHelyszín: Gúta (a vízi malomnál) \nRajt: 8.00 \nKürti Csilla megsegítésére \n 
URL:https://szlomasport.sk/esemeny/jotekonysagi-futoverseny-gutan/
LOCATION:Gúta\, Gúta\, Szlovákia
ATTACH;FMTTYPE=image/jpeg:https://szlomasport.sk/wp-content/uploads/2017/04/dgs2017-Custom.jpg
END:VEVENT
BEGIN:VEVENT
DTSTART;VALUE=DATE:20170527
DTEND;VALUE=DATE:20170528
DTSTAMP:20260425T015318
CREATED:20170419T085121Z
LAST-MODIFIED:20170525T074541Z
UID:14358-1495843200-1495929599@szlomasport.sk
SUMMARY:Futóverseny Szeliben
DESCRIPTION:III. Szeli félmaraton\, V. Tíz- és Háromkilométeres Futás \nHelyszín: Felsőszeli (versenyközpont)\, Alsószeli \nRajt: 10.30 (Nyerges-pálya) \n 
URL:https://szlomasport.sk/esemeny/futoverseny-szeliben/
LOCATION:Felsőszeli\, Alsószeli\, Felsőszeli\, Szlovákia
ATTACH;FMTTYPE=image/jpeg:https://szlomasport.sk/wp-content/uploads/2017/04/szelifut2017-Custom.jpg
END:VEVENT
BEGIN:VEVENT
DTSTART;VALUE=DATE:20170527
DTEND;VALUE=DATE:20170528
DTSTAMP:20260425T015318
CREATED:20170512T083247Z
LAST-MODIFIED:20170525T075600Z
UID:14456-1495843200-1495929599@szlomasport.sk
SUMMARY:Westernlovagló Vándorkupa Kőhídgyarmaton
DESCRIPTION:A tíz versenyből álló azonos nevű sorozat harmadik állomása \nHelyszín: Kőhídgyarmat \nKezdés: 11.00 \nVersenyszámok: szlalom és hordókerülés junioroknak\, valamint open és profi open kategóriában. Utána ügyességi szám. \nKözben motor-\, traktor-\, hintó- és szekérkiállítás\, lovaglási lehetőség
URL:https://szlomasport.sk/esemeny/westernlovaglo-vandorkupa-kohidgyarmaton/
LOCATION:Kőhídgyarmat\, Kőhídgyarmat\, Szlovákia
ATTACH;FMTTYPE=image/jpeg:https://szlomasport.sk/wp-content/uploads/2017/05/westernkotra2017.jpg
END:VEVENT
BEGIN:VEVENT
DTSTART;VALUE=DATE:20170527
DTEND;VALUE=DATE:20170528
DTSTAMP:20260425T015318
CREATED:20170519T101645Z
LAST-MODIFIED:20170525T073010Z
UID:14521-1495843200-1495929599@szlomasport.sk
SUMMARY:Vezetett gyalogtúra Fülekről
DESCRIPTION:A Geopark Novohrad-Nógrád J.Sz.T. és a füleki Nógrádi Turisztikai Információs Központ rendezvénye \nTalálka: Fülek (8.30-kor a városi művelődési központ előtt) \nÚtvonal: Fülek – Vecseklő – Lőrince-patak szurdoka – Mária-kút – Újbást/Óbást –\n– Ladóczky V. gyűjteménye – hőlégballonos bemutató – Fülek \nTáv: 15 km \nTúravezető: Kovács Roland \nJelentkezés és további információk: Nógrádi Turisztikai Információs Központ irodája\,\nFülek\, Várfelső utca / Podhradská 14.\, tel.: +421 (0)47 4382 016\, mobil: +421 918 994 481 e-mail: ntic@hradfilakovo.sk vagy a Geopark Novohrad-Nógrád J.Sz.T. irodája\, irodavezető: Puntigán József\, Fülek\nVárfelső utca / Podhradská 14\, mobil: +421 (0)917 646 551\, e-mail: geopark.filakovo@gmail.com.
URL:https://szlomasport.sk/esemeny/vezetett-gyalogtura-fulekrol/
LOCATION:Fülek\, Fülek\, Szlovákia
ATTACH;FMTTYPE=image/jpeg:https://szlomasport.sk/wp-content/uploads/2017/05/fulekmaj27.jpg
END:VEVENT
BEGIN:VEVENT
DTSTART;VALUE=DATE:20170527
DTEND;VALUE=DATE:20170528
DTSTAMP:20260425T015318
CREATED:20170525T072305Z
LAST-MODIFIED:20170525T072305Z
UID:14541-1495843200-1495929599@szlomasport.sk
SUMMARY:Birkózás Dunaszerdahelyen
DESCRIPTION:Csallóközi Kupa nemzetközi szabadfogású verseny \nHelyszín: Dunaszerdahely (városi sportcsarnok) \nKezdés: 11.00 \n 
URL:https://szlomasport.sk/esemeny/birkozas-dunaszerdahelyen/
LOCATION:Dunaszerdahely\, Dunaszerdahely\, Szlovákia
ATTACH;FMTTYPE=image/jpeg:https://szlomasport.sk/wp-content/uploads/2017/05/csallokozikupabirok.jpg
END:VEVENT
END:VCALENDAR