BEGIN:VCALENDAR
VERSION:2.0
PRODID:-//SZLOMASPORT - ECPv6.5.1.5//NONSGML v1.0//EN
CALSCALE:GREGORIAN
METHOD:PUBLISH
X-ORIGINAL-URL:https://szlomasport.sk
X-WR-CALDESC:Events for SZLOMASPORT
REFRESH-INTERVAL;VALUE=DURATION:PT1H
X-Robots-Tag:noindex
X-PUBLISHED-TTL:PT1H
BEGIN:VTIMEZONE
TZID:Europe/Bratislava
BEGIN:DAYLIGHT
TZOFFSETFROM:+0100
TZOFFSETTO:+0200
TZNAME:CEST
DTSTART:20170326T010000
END:DAYLIGHT
BEGIN:STANDARD
TZOFFSETFROM:+0200
TZOFFSETTO:+0100
TZNAME:CET
DTSTART:20171029T010000
END:STANDARD
END:VTIMEZONE
BEGIN:VEVENT
DTSTART;VALUE=DATE:20170422
DTEND;VALUE=DATE:20170423
DTSTAMP:20260425T032046
CREATED:20170412T175142Z
LAST-MODIFIED:20170419T081351Z
UID:14290-1492819200-1492905599@szlomasport.sk
SUMMARY:Füleki vezetett gyalogtúra
DESCRIPTION:A Nógrád Geopark és a Füleki Nógrád  Turisztikai és Információs Központ közös rendezvénye \nTalálka: 8.30 (a Füleki Városi Művelődési Központ előtt) \nÚtvonal: Fülek-Zagyvaróna-Rónafalu (Mély-gödör)-Medves-fennsík-Zagyva-forrás-Salgóbánya-Eresztvény-Fülek \nA túra hossza: 10 km \nJelentkezés a szervezőknél.
URL:https://szlomasport.sk/esemeny/fuleki-vezetett-gyalogtura/
LOCATION:Fülek\, Fülek\, Szlovákia
ATTACH;FMTTYPE=image/jpeg:https://szlomasport.sk/wp-content/uploads/2017/04/fulekaprilisgyalogturaa.jpg
END:VEVENT
END:VCALENDAR