BEGIN:VCALENDAR
VERSION:2.0
PRODID:-//SZLOMASPORT - ECPv6.5.1.5//NONSGML v1.0//EN
CALSCALE:GREGORIAN
METHOD:PUBLISH
X-WR-CALNAME:SZLOMASPORT
X-ORIGINAL-URL:https://szlomasport.sk
X-WR-CALDESC:Events for SZLOMASPORT
REFRESH-INTERVAL;VALUE=DURATION:PT1H
X-Robots-Tag:noindex
X-PUBLISHED-TTL:PT1H
BEGIN:VTIMEZONE
TZID:Europe/Bratislava
BEGIN:DAYLIGHT
TZOFFSETFROM:+0100
TZOFFSETTO:+0200
TZNAME:CEST
DTSTART:20170326T010000
END:DAYLIGHT
BEGIN:STANDARD
TZOFFSETFROM:+0200
TZOFFSETTO:+0100
TZNAME:CET
DTSTART:20171029T010000
END:STANDARD
END:VTIMEZONE
BEGIN:VEVENT
DTSTART;VALUE=DATE:20170407
DTEND;VALUE=DATE:20170408
DTSTAMP:20260425T031857
CREATED:20170319T094323Z
LAST-MODIFIED:20170405T103949Z
UID:14155-1491523200-1491609599@szlomasport.sk
SUMMARY:Országos döntő Hodoson
DESCRIPTION:A férfi-asztalitenisz extraliga döntőjének visszavágója \nPárosítás: Vydrany--Hontianske Trsťany/Dudince \nHelyszín: Hodos (kultúrház) \nKezdés: 18.00 \nElső mérkőzés: 5:1 a hodosi csapat javára \nA bajnokság itt követhető nyomon \n 
URL:https://szlomasport.sk/esemeny/orszagos-donto-hodoson/
END:VEVENT
END:VCALENDAR