BEGIN:VCALENDAR
VERSION:2.0
PRODID:-//SZLOMASPORT - ECPv6.5.1.5//NONSGML v1.0//EN
CALSCALE:GREGORIAN
METHOD:PUBLISH
X-ORIGINAL-URL:https://szlomasport.sk
X-WR-CALDESC:Events for SZLOMASPORT
REFRESH-INTERVAL;VALUE=DURATION:PT1H
X-Robots-Tag:noindex
X-PUBLISHED-TTL:PT1H
BEGIN:VTIMEZONE
TZID:Europe/Bratislava
BEGIN:DAYLIGHT
TZOFFSETFROM:+0100
TZOFFSETTO:+0200
TZNAME:CEST
DTSTART:20170326T010000
END:DAYLIGHT
BEGIN:STANDARD
TZOFFSETFROM:+0200
TZOFFSETTO:+0100
TZNAME:CET
DTSTART:20171029T010000
END:STANDARD
END:VTIMEZONE
BEGIN:VEVENT
DTSTART;VALUE=DATE:20170401
DTEND;VALUE=DATE:20170402
DTSTAMP:20260425T032138
CREATED:20170329T194239Z
LAST-MODIFIED:20170329T195844Z
UID:14203-1491004800-1491091199@szlomasport.sk
SUMMARY:Békefutás Pozsonyeperjesen
DESCRIPTION:A helyi híd felrobbantásának 72. évfordulója alkalmából \nRajt: 15.00 (Nepomuki Szent János kápolna mellől) \nTáv: 5 és 1\,5 km \nBárki indulhat a második futáson\, amely nem verseny\, hanem mozgással egybekötött megemlékezés a II. világháborús eseményről.
URL:https://szlomasport.sk/esemeny/bekefutas-pozsonyeperjesen/
LOCATION:Jahodná\, Pozsonyeperjes\, Jahodná\, Pozsnyeperjes\, Szlovákia
ATTACH;FMTTYPE=image/jpeg:https://szlomasport.sk/wp-content/uploads/2017/03/bekefutaspozsonyeperjes.jpg
END:VEVENT
BEGIN:VEVENT
DTSTART;VALUE=DATE:20170401
DTEND;VALUE=DATE:20170403
DTSTAMP:20260425T032138
CREATED:20170329T201933Z
LAST-MODIFIED:20170329T203308Z
UID:14207-1491004800-1491177599@szlomasport.sk
SUMMARY:Díjlovagló Nagydíj Dunatőkésen
DESCRIPTION:Zepter Dressage Grand Prix nemzetközi fedeles viadal \nHelyszín: Dunatőkés (Czajlik-rancs\, fedett lovarda) \nKezdés: 9.00 \nInduló országok: Csehország\, Ausztria\, Magyarország\, Szlovákia \nRajtszám: 190 \n 
URL:https://szlomasport.sk/esemeny/dijlovaglo-nagydij-dunatokesen/
LOCATION:Dunajský Klátov\, Dunatőkés
END:VEVENT
END:VCALENDAR